Workbook
Name A: Résultats!$E$29
Name A: #REF!
Name ABS_LOD: Résultats!$AN$22
Name ABS_LOD: #REF!
Name ABS_LOQ: Résultats!$AN$23
Name ABS_LOQ: #REF!
Name COEFF_A: Résultats!$E$29
Name COEFF_A: #REF!
Name COEFF_B: Résultats!$E$30
Name COEFF_B: #REF!
Name COEFF_C: Résultats!$E$31
Name COEFF_C: #REF!
Name NSB: Résultats!$AN$20
Name NSB: #REF!
Name SATURATION: Résultats!$I$15
Name SATURATION: #REF!

Sheet Informations générales
A1: Anthrax_quantif_V02
A2: ELISA ANTHRAX eZYDIAG® Quantitatif
A4: Laboratoire
A5: Date
A6: Opérateur
A7: Date d’ouverture du kit et des réactifs
A8: Nombre d’utilisations préalables du kit
A9: Agitateur (marque, modèle)
A10: Laveur (marque, modèle)
A11: Respect des protocoles de lavage* : oui/non
A12: Lecteur (marque modèle)
A13: Heure de début de manipulation
... A22: REMARQUES
B24: Page 1/3

Sheet Plan plaque - Saisie lectures
B2: ELISA ANTHRAX eZYDIAG® Quantitatif
B5: Laboratoire | D5: ….................................................. | L5: Lot kit | M5: …....................................
B6: Date (jj/mm/aaaa) | D6: ….................................................. | L6: Péremption | M6: …....................................
B7: Opérateur | D7: …..................................................
B12: PLAN DE PLAQUE
C16: STANDARDS | F16: SAISIR L'IDENTIFIANT DE CHACUN DE VOS ECHANTILLONS DANS LES CASES
C17: 1 | D17: 2 | E17: 3 | F17: 4 | G17: 5 | H17: 6 | I17: 7 | J17: 8 | K17: 9 | L17: 10 | M17: 11 | N17: 12
B18: A | C18: STD 200 | E18: ECH N°1 | G18: ECH N°9 | I18: ECH N°17 | K18: ECH N°25 | M18: ECH N°33
B19: B | C19: STD 100 | E19: ECH N°2 | G19: ECH N°10 | I19: ECH N°18 | K19: ECH N°26 | M19: ECH N°34
B20: C | C20: STD 50 | E20: ECH N°3 | G20: ECH N°11 | I20: ECH N°19 | K20: ECH N°27 | M20: ECH N°35
B21: D | C21: STD 25 | E21: ECH N°4 | G21: ECH N°12 | I21: ECH N°20 | K21: ECH N°28 | M21: ECH N°36
B22: E | C22: STD 12,5 | E22: ECH N°5 | G22: ECH N°13 | I22: ECH N°21 | K22: ECH N°29 | M22: ECH N°37
B23: F | C23: STD 6,25 | E23: ECH N°6 | G23: ECH N°14 | I23: ECH N°22 | K23: ECH N°30 | M23: ECH N°38
B24: G | C24: STD0 | E24: ECH N°7 | G24: ECH N°15 | I24: ECH N°23 | K24: ECH N°31 | M24: ECH N°39
B25: H | C25: STD0 | E25: ECH N°8 | G25: ECH N°16 | I25: ECH N°24 | K25: ECH N°32 | M25: ECH N°40
B31: Données expérimentales à entrer en Unité d'Absorbance = (DO 450 nm) - (DO 630 ou 620 nm)
H34: (Respecter le plan de plaque défini ci-dessus)
C36: =+IF(AND(ISERR(C37*2),LEN(C37)>0),"Pb saisie",1) -> 1 | D36: =+IF(AND(ISERR(D37*2),LEN(D37)>0),"Pb saisie",2) -> 2 | E36: =+IF(AND(ISERR(E37*2),LEN(E37)>0),"Pb saisie",3) -> 3 | F36: =+IF(AND(ISERR(F37*2),LEN(F37)>0),"Pb saisie",4) -> 4 | G36: =+IF(AND(ISERR(G37*2),LEN(G37)>0),"Pb saisie",5) -> 5 | H36: =+IF(AND(ISERR(H37*2),LEN(H37)>0),"Pb saisie",6) -> 6 | I36: =+IF(AND(ISERR(I37*2),LEN(I37)>0),"Pb saisie",7) -> 7 | J36: =+IF(AND(ISERR(J37*2),LEN(J37)>0),"Pb saisie",8) -> 8 | K36: =+IF(AND(ISERR(K37*2),LEN(K37)>0),"Pb saisie",9) -> 9 | L36: =+IF(AND(ISERR(L37*2),LEN(L37)>0),"Pb saisie",10) -> 10 | M36: =+IF(AND(ISERR(M37*2),LEN(M37)>0),"Pb saisie",11) -> 11 | N36: =+IF(AND(ISERR(N37*2),LEN(N37)>0),"Pb saisie",12) -> 12
B37: A
B38: B
B39: C
B40: D
B41: E
B42: F
B43: G
B44: H
B48: REMARQUES
N68: Page 2/3

Sheet Résultats
B2: ELISA ANTHRAX eZYDIAG® Quantitatif
B5: Laboratoire | C5: ='Plan plaque - Saisie lectures'!D5 -> ….................................................. | H5: Lot Kit | I5: ='Plan plaque - Saisie lectures'!$M$5 -> …....................................
B6: Date | C6: ='Plan plaque - Saisie lectures'!$D$6 -> ….................................................. | H6: Date péremption | I6: ='Plan plaque - Saisie lectures'!$M$6 -> …....................................
B7: Opérateur | C7: ='Plan plaque - Saisie lectures'!$D$7 -> …..................................................
B9: PROTOCOLE QUANTITATIF
B12: Témoin négatif (TN) Liaison non spécifique | F12: Acceptance criteria NC ≤ 0,025 | H12: Calcul des limites de détection et quantification | J12: Acceptance criteria LOD < LOQ
B13: Abs (DO) | D13: Moyenne (DO) = | E13: =IF(ISERR(AN20),"", AN20) | F13: =IF(E13="","",IF(E13>0.025,"NOT COMPIANT","COMPLIANT")) | H13: Limite de détection LOD (pg/mL) = | I13: =IF(SUM(C21:D26)=0,"",((-$E$30)+(SQRT($E$30^2-(4*$E$29*($E$31-AN23)))))/(2*$E$29)) | J13: =IF(I13="","",IF(I13<I14,"COMPLIANT","NOT COMPLIANT"))
B14: =IF(AL20=0,"", AL20) | D14: Ecart type ET = | E14: =IF(ISERR(AN21),"", AN21) | H14: Limite de quantification LOQ (pg/mL) = | I14: =IF(SUM(C21:D26)=0,"",6.25)
B15: =IF(AL21=0,"", AL21) | D15: Moy + 3 ET = | E15: =IF(ISERR(AN22),"", AN22) | H15: Signal saturation (DO) = | I15: =IF(SUM(C21:D26)=0,"",MAX(C21:D26)+0.2)
B16: =IF(AL22=0,"", AL22) | D16: Moy + 10 ET = | E16: =IF(ISERR(AN23),"", AN23)
B17: =IF(AL23=0,"", AL23)
B19: Gamme standard | G19: Acceptance criteria (DO STD 200 ≥ 1,300 | AI19: STD rep 1 | AJ19: STD rep2 | AL19: TN
B20: Toxin LF (pg/mL) | C20: Abs 1 (DO) | D20: Abs 2 (DO) | E20: Moyenne (DO) | F20: CV (%) | AH20: =IF(E21>SATURATION,0,B21) -> 200 | AI20: ='Plan plaque - Saisie lectures'!$C37 -> 0 | AJ20: ='Plan plaque - Saisie lectures'!$D37 -> 0 | AK20: =IF(E21>SATURATION,NSB,E21) | AL20: ='Plan plaque - Saisie lectures'!C43 -> 0 | AM20: Moyenne (DO) = | AN20: =AVERAGE(B14:B17) -> #DIV/0!
B21: 200 | C21: =IF(AI20=0,"",AI20) | D21: =IF(AJ20=0,"",AJ20) | E21: =IF(AND(ISTEXT(C21),ISTEXT(D21)), "",AVERAGE(C21:D21)) | F21: =IF(AND(C21="",D21=""),"",IF(OR(C21="",D21=""),"NA",STDEV(C21:D21)/E21*100)) | G21: =IF(E21="","",IF(E21<1.3,"NOT COMPIANT","COMPLIANT")) | AH21: =IF(E22>SATURATION,0,B22) -> 100 | AI21: ='Plan plaque - Saisie lectures'!$C38 -> 0 | AJ21: ='Plan plaque - Saisie lectures'!$D38 -> 0 | AK21: =IF(E22>SATURATION,NSB,E22) | AL21: ='Plan plaque - Saisie lectures'!D43 -> 0 | AM21: Ecart type ET = | AN21: =STDEV(B14:B17) -> #DIV/0!
B22: 100 | C22: =IF(AI21=0,"",AI21) | D22: =IF(AJ21=0,"",AJ21) | E22: =IF(AND(ISTEXT(C22),ISTEXT(D22)), "",AVERAGE(C22:D22)) | F22: =IF(AND(C22="",D22=""),"",IF(OR(C22="",D22=""),"NA",STDEV(C22:D22)/E22*100)) | AH22: =IF(E23>SATURATION,0,B23) -> 50 | AI22: ='Plan plaque - Saisie lectures'!$C39 -> 0 | AJ22: ='Plan plaque - Saisie lectures'!$D39 -> 0 | AK22: =IF(E23>SATURATION,NSB,E23) | AL22: ='Plan plaque - Saisie lectures'!C44 -> 0 | AM22: Moy + 3 ET = | AN22: =AN20+3*AN21 -> #DIV/0!
B23: 50 | C23: =IF(AI22=0,"",AI22) | D23: =IF(AJ22=0,"",AJ22) | E23: =IF(AND(ISTEXT(C23),ISTEXT(D23)), "",AVERAGE(C23:D23)) | F23: =IF(AND(C23="",D23=""),"",IF(OR(C23="",D23=""),"NA",STDEV(C23:D23)/E23*100)) | AH23: =IF(E24>SATURATION,0,B24) -> 25 | AI23: ='Plan plaque - Saisie lectures'!$C40 -> 0 | AJ23: ='Plan plaque - Saisie lectures'!$D40 -> 0 | AK23: =IF(E24>SATURATION,NSB,E24) | AL23: ='Plan plaque - Saisie lectures'!D44 -> 0 | AM23: Moy + 10 ET = | AN23: =AN20+10*AN21 -> #DIV/0!
B24: 25 | C24: =IF(AI23=0,"",AI23) | D24: =IF(AJ23=0,"",AJ23) | E24: =IF(AND(ISTEXT(C24),ISTEXT(D24)), "",AVERAGE(C24:D24)) | F24: =IF(AND(C24="",D24=""),"",IF(OR(C24="",D24=""),"NA",STDEV(C24:D24)/E24*100)) | G24: Acceptance criteria ( DO STD 6,25 / DO TN) ≥ 2 | AH24: =IF(E25>SATURATION,0,B25) -> 12.5 | AI24: ='Plan plaque - Saisie lectures'!$C41 -> 0 | AJ24: ='Plan plaque - Saisie lectures'!$D41 -> 0 | AK24: =IF(E25>SATURATION,NSB,E25)
B25: 12.5 | C25: =IF(AI24=0,"",AI24) | D25: =IF(AJ24=0,"",AJ24) | E25: =IF(AND(ISTEXT(C25),ISTEXT(D25)), "",AVERAGE(C25:D25)) | F25: =IF(AND(C25="",D25=""),"",IF(OR(C25="",D25=""),"NA",STDEV(C25:D25)/E25*100)) | AH25: =IF(E26>SATURATION,0,B26) -> 6.25 | AI25: ='Plan plaque - Saisie lectures'!$C42 -> 0 | AJ25: ='Plan plaque - Saisie lectures'!$D42 -> 0 | AK25: =IF(E26>SATURATION,NSB,E26)
B26: 6.25 | C26: =IF(AI25=0,"",AI25) | D26: =IF(AJ25=0,"",AJ25) | E26: =IF(AND(ISTEXT(C26),ISTEXT(D26)), "",AVERAGE(C26:D26)) | F26: =IF(AND(C26="",D26=""),"",IF(OR(C26="",D26=""),"NA",STDEV(C26:D26)/E26*100)) | G26: =IF(E26="","",IF(E26/E13<2,"NOT COMPIANT","COMPLIANT")) | AH26: 0 | AK26: =NSB -> #DIV/0!
B28: Paramètres de la courbe de calibration (y = Ax2+Bx+C)
D29: A | E29: =INDEX(LINEST($AK$20:$AK$26,$AH$20:$AH$26^{1,2}),1,1) -> #VALUE!
D30: B | E30: =INDEX(LINEST($AK$20:$AK$26,$AH$20:$AH$26^{1,2}),1,2) -> #VALUE! | F30: Acceptance criteria r² ≥ 0,99
D31: C | E31: =INDEX(LINEST($AK$20:$AK$26,$AH$20:$AH$26^{1,2}),1,3) -> #VALUE!
B32: Coefficient de corrélation | D32: r² | E32: =INDEX(LINEST($AK$20:$AK$26,$AH$20:$AH$26^{1,2},TRUE,TRUE),3,1) -> #VALUE! | F32: =IF(E32="","",IF(E32<0.99,"NOT COMPIANT","COMPLIANT")) -> #VALUE!
I37: *Compléter le facteur de dilution
D38: Résultats échantillons | AK38: facteur de dilution | AL38: concentration non diluée | AM38: Cv (%) | AN38: precision
D40: Echantillon | E40: Abs 1 (DO) | F40: Abs 2 (DO) | G40: Moyenne (DO) | H40: Concentration diluée (pg/mL) | I40: Facteur de dilution | J40: Concentration (pg/mL) | K40: CV (%) | AJ40: =IF(SUM(AH40:AI40)=0,"", ((-$E$30)+(SQRT($E$30^2-(4*$E$29*($E$31-#REF!)))))/(2*$E$29))
D41: ='Plan plaque - Saisie lectures'!E18 -> ECH N°1 | E41: =IF(AH41=0,"",AH41) | F41: =IF(AI41=0,"",AI41) | G41: =IF(AND(ISTEXT(E41),ISTEXT(F41))," ",AVERAGE(E41:F41)) | H41: =IF(G41=" ","",IF(AJ41<$I$13,"<LLOD",AJ41)) | J41: =IF(I41="","",IF(AJ41<$I$13,"<LLOD",AL41)) | K41: =IF(AND(E41="",F41=""),"",IF(OR(E41="",F41=""),"NA",IF(AND(E41="SATURATION",F41="SATURATION"),"NA",IF(OR(E41="SATURATION",F41="SATURATION"),"NA",AM41)))) | AH41: =IF('Plan plaque - Saisie lectures'!E37>SATURATION,"SATURATION",'Plan plaque - Saisie lectures'!E37) -> 0 | AI41: =IF('Plan plaque - Saisie lectures'!F37>SATURATION,"SATURATION",'Plan plaque - Saisie lectures'!F37) -> 0 | AJ41: =IF(G41="NA","NA",((-$E$30)+(SQRT($E$30^2-(4*$E$29*($E$31-G41)))))/(2*$E$29)) -> #VALUE! | AK41: =I41 -> 0 | AL41: =IF(H41="","",AK41*AJ41) | AM41: =STDEV(AH41:AI41)/AVERAGE(AH41:AI41)*100 -> #DIV/0!
D42: ='Plan plaque - Saisie lectures'!E19 -> ECH N°2 | E42: =IF(AH42=0,"",AH42) | F42: =IF(AI42=0,"",AI42) | G42: =IF(AND(ISTEXT(E42),ISTEXT(F42))," ",AVERAGE(E42:F42)) | H42: =IF(G42=" ","",IF(AJ42<$I$13,"<LLOD",AJ42)) | J42: =IF(I42="","",IF(AJ42<$I$13,"<LLOD",AL42)) | K42: =IF(AND(E42="",F42=""),"",IF(OR(E42="",F42=""),"NA",IF(AND(E42="SATURATION",F42="SATURATION"),"NA",IF(OR(E42="SATURATION",F42="SATURATION"),"NA",AM42)))) | AH42: =IF('Plan plaque - Saisie lectures'!E38>SATURATION,"SATURATION",'Plan plaque - Saisie lectures'!E38) -> 0 | AI42: =IF('Plan plaque - Saisie lectures'!F38>SATURATION,"SATURATION",'Plan plaque - Saisie lectures'!F38) -> 0 | AJ42: =IF(G42="NA","NA",((-$E$30)+(SQRT($E$30^2-(4*$E$29*($E$31-G42)))))/(2*$E$29)) -> #VALUE! | AK42: =I42 -> 0 | AL42: =IF(H42="","",AK42*AJ42) | AM42: =STDEV(AH42:AI42)/AVERAGE(AH42:AI42)*100 -> #DIV/0!
D43: ='Plan plaque - Saisie lectures'!E20 -> ECH N°3 | E43: =IF(AH43=0,"",AH43) | F43: =IF(AI43=0,"",AI43) | G43: =IF(AND(ISTEXT(E43),ISTEXT(F43))," ",AVERAGE(E43:F43)) | H43: =IF(G43=" ","",IF(AJ43<$I$13,"<LLOD",AJ43)) | J43: =IF(I43="","",IF(AJ43<$I$13,"<LLOD",AL43)) | K43: =IF(AND(E43="",F43=""),"",IF(OR(E43="",F43=""),"NA",IF(AND(E43="SATURATION",F43="SATURATION"),"NA",IF(OR(E43="SATURATION",F43="SATURATION"),"NA",AM43)))) | AH43: =IF('Plan plaque - Saisie lectures'!E39>SATURATION,"SATURATION",'Plan plaque - Saisie lectures'!E39) -> 0 | AI43: =IF('Plan plaque - Saisie lectures'!F39>SATURATION,"SATURATION",'Plan plaque - Saisie lectures'!F39) -> 0 | AJ43: =IF(G43="NA","NA",((-$E$30)+(SQRT($E$30^2-(4*$E$29*($E$31-G43)))))/(2*$E$29)) -> #VALUE! | AK43: =I43 -> 0 | AL43: =IF(H43="","",AK43*AJ43) | AM43: =STDEV(AH43:AI43)/AVERAGE(AH43:AI43)*100 -> #DIV/0!
D44: ='Plan plaque - Saisie lectures'!E21 -> ECH N°4 | E44: =IF(AH44=0,"",AH44) | F44: =IF(AI44=0,"",AI44) | G44: =IF(AND(ISTEXT(E44),ISTEXT(F44))," ",AVERAGE(E44:F44)) | H44: =IF(G44=" ","",IF(AJ44<$I$13,"<LLOD",AJ44)) | J44: =IF(I44="","",IF(AJ44<$I$13,"<LLOD",AL44)) | K44: =IF(AND(E44="",F44=""),"",IF(OR(E44="",F44=""),"NA",IF(AND(E44="SATURATION",F44="SATURATION"),"NA",IF(OR(E44="SATURATION",F44="SATURATION"),"NA",AM44)))) | AH44: =IF('Plan plaque - Saisie lectures'!E40>SATURATION,"SATURATION",'Plan plaque - Saisie lectures'!E40) -> 0 | AI44: =IF('Plan plaque - Saisie lectures'!F40>SATURATION,"SATURATION",'Plan plaque - Saisie lectures'!F40) -> 0 | AJ44: =IF(G44="NA","NA",((-$E$30)+(SQRT($E$30^2-(4*$E$29*($E$31-G44)))))/(2*$E$29)) -> #VALUE! | AK44: =I44 -> 0 | AL44: =IF(H44="","",AK44*AJ44) | AM44: =STDEV(AH44:AI44)/AVERAGE(AH44:AI44)*100 -> #DIV/0!
D45: ='Plan plaque - Saisie lectures'!E22 -> ECH N°5 | E45: =IF(AH45=0,"",AH45) | F45: =IF(AI45=0,"",AI45) | G45: =IF(AND(ISTEXT(E45),ISTEXT(F45))," ",AVERAGE(E45:F45)) | H45: =IF(G45=" ","",IF(AJ45<$I$13,"<LLOD",AJ45)) | J45: =IF(I45="","",IF(AJ45<$I$13,"<LLOD",AL45)) | K45: =IF(AND(E45="",F45=""),"",IF(OR(E45="",F45=""),"NA",IF(AND(E45="SATURATION",F45="SATURATION"),"NA",IF(OR(E45="SATURATION",F45="SATURATION"),"NA",AM45)))) | AH45: =IF('Plan plaque - Saisie lectures'!E41>SATURATION,"SATURATION",'Plan plaque - Saisie lectures'!E41) -> 0 | AI45: =IF('Plan plaque - Saisie lectures'!F41>SATURATION,"SATURATION",'Plan plaque - Saisie lectures'!F41) -> 0 | AJ45: =IF(G45="NA","NA",((-$E$30)+(SQRT($E$30^2-(4*$E$29*($E$31-G45)))))/(2*$E$29)) -> #VALUE! | AK45: =I45 -> 0 | AL45: =IF(H45="","",AK45*AJ45) | AM45: =STDEV(AH45:AI45)/AVERAGE(AH45:AI45)*100 -> #DIV/0!
D46: ='Plan plaque - Saisie lectures'!E23 -> ECH N°6 | E46: =IF(AH46=0,"",AH46) | F46: =IF(AI46=0,"",AI46) | G46: =IF(AND(ISTEXT(E46),ISTEXT(F46))," ",AVERAGE(E46:F46)) | H46: =IF(G46=" ","",IF(AJ46<$I$13,"<LLOD",AJ46)) | J46: =IF(I46="","",IF(AJ46<$I$13,"<LLOD",AL46)) | K46: =IF(AND(E46="",F46=""),"",IF(OR(E46="",F46=""),"NA",IF(AND(E46="SATURATION",F46="SATURATION"),"NA",IF(OR(E46="SATURATION",F46="SATURATION"),"NA",AM46)))) | AH46: =IF('Plan plaque - Saisie lectures'!E42>SATURATION,"SATURATION",'Plan plaque - Saisie lectures'!E42) -> 0 | AI46: =IF('Plan plaque - Saisie lectures'!F42>SATURATION,"SATURATION",'Plan plaque - Saisie lectures'!F42) -> 0 | AJ46: =IF(G46="NA","NA",((-$E$30)+(SQRT($E$30^2-(4*$E$29*($E$31-G46)))))/(2*$E$29)) -> #VALUE! | AK46: =I46 -> 0 | AL46: =IF(H46="","",AK46*AJ46) | AM46: =STDEV(AH46:AI46)/AVERAGE(AH46:AI46)*100 -> #DIV/0!
D47: ='Plan plaque - Saisie lectures'!E24 -> ECH N°7 | E47: =IF(AH47=0,"",AH47) | F47: =IF(AI47=0,"",AI47) | G47: =IF(AND(ISTEXT(E47),ISTEXT(F47))," ",AVERAGE(E47:F47)) | H47: =IF(G47=" ","",IF(AJ47<$I$13,"<LLOD",AJ47)) | J47: =IF(I47="","",IF(AJ47<$I$13,"<LLOD",AL47)) | K47: =IF(AND(E47="",F47=""),"",IF(OR(E47="",F47=""),"NA",IF(AND(E47="SATURATION",F47="SATURATION"),"NA",IF(OR(E47="SATURATION",F47="SATURATION"),"NA",AM47)))) | AH47: =IF('Plan plaque - Saisie lectures'!E43>SATURATION,"SATURATION",'Plan plaque - Saisie lectures'!E43) -> 0 | AI47: =IF('Plan plaque - Saisie lectures'!F43>SATURATION,"SATURATION",'Plan plaque - Saisie lectures'!F43) -> 0 | AJ47: =IF(G47="NA","NA",((-$E$30)+(SQRT($E$30^2-(4*$E$29*($E$31-G47)))))/(2*$E$29)) -> #VALUE! | AK47: =I47 -> 0 | AL47: =IF(H47="","",AK47*AJ47) | AM47: =STDEV(AH47:AI47)/AVERAGE(AH47:AI47)*100 -> #DIV/0!
D48: ='Plan plaque - Saisie lectures'!E25 -> ECH N°8 | E48: =IF(AH48=0,"",AH48) | F48: =IF(AI48=0,"",AI48) | G48: =IF(AND(ISTEXT(E48),ISTEXT(F48))," ",AVERAGE(E48:F48)) | H48: =IF(G48=" ","",IF(AJ48<$I$13,"<LLOD",AJ48)) | J48: =IF(I48="","",IF(AJ48<$I$13,"<LLOD",AL48)) | K48: =IF(AND(E48="",F48=""),"",IF(OR(E48="",F48=""),"NA",IF(AND(E48="SATURATION",F48="SATURATION"),"NA",IF(OR(E48="SATURATION",F48="SATURATION"),"NA",AM48)))) | AH48: =IF('Plan plaque - Saisie lectures'!E44>SATURATION,"SATURATION",'Plan plaque - Saisie lectures'!E44) -> 0 | AI48: =IF('Plan plaque - Saisie lectures'!F44>SATURATION,"SATURATION",'Plan plaque - Saisie lectures'!F44) -> 0 | AJ48: =IF(G48="NA","NA",((-$E$30)+(SQRT($E$30^2-(4*$E$29*($E$31-G48)))))/(2*$E$29)) -> #VALUE! | AK48: =I48 -> 0 | AL48: =IF(H48="","",AK48*AJ48) | AM48: =STDEV(AH48:AI48)/AVERAGE(AH48:AI48)*100 -> #DIV/0!
D49: ='Plan plaque - Saisie lectures'!G18 -> ECH N°9 | E49: =IF(AH49=0,"",AH49) | F49: =IF(AI49=0,"",AI49) | G49: =IF(AND(ISTEXT(E49),ISTEXT(F49))," ",AVERAGE(E49:F49)) | H49: =IF(G49=" ","",IF(AJ49<$I$13,"<LLOD",AJ49)) | J49: =IF(I49="","",IF(AJ49<$I$13,"<LLOD",AL49)) | K49: =IF(AND(E49="",F49=""),"",IF(OR(E49="",F49=""),"NA",IF(AND(E49="SATURATION",F49="SATURATION"),"NA",IF(OR(E49="SATURATION",F49="SATURATION"),"NA",AM49)))) | AH49: =IF('Plan plaque - Saisie lectures'!G37>SATURATION,"SATURATION",'Plan plaque - Saisie lectures'!G37) -> 0 | AI49: =IF('Plan plaque - Saisie lectures'!H37>SATURATION,"SATURATION",'Plan plaque - Saisie lectures'!H37) -> 0 | AJ49: =IF(G49="NA","NA",((-$E$30)+(SQRT($E$30^2-(4*$E$29*($E$31-G49)))))/(2*$E$29)) -> #VALUE! | AK49: =I49 -> 0 | AL49: =IF(H49="","",AK49*AJ49) | AM49: =STDEV(AH49:AI49)/AVERAGE(AH49:AI49)*100 -> #DIV/0!
D50: ='Plan plaque - Saisie lectures'!G19 -> ECH N°10 | E50: =IF(AH50=0,"",AH50) | F50: =IF(AI50=0,"",AI50) | G50: =IF(AND(ISTEXT(E50),ISTEXT(F50))," ",AVERAGE(E50:F50)) | H50: =IF(G50=" ","",IF(AJ50<$I$13,"<LLOD",AJ50)) | J50: =IF(I50="","",IF(AJ50<$I$13,"<LLOD",AL50)) | K50: =IF(AND(E50="",F50=""),"",IF(OR(E50="",F50=""),"NA",IF(AND(E50="SATURATION",F50="SATURATION"),"NA",IF(OR(E50="SATURATION",F50="SATURATION"),"NA",AM50)))) | AH50: =IF('Plan plaque - Saisie lectures'!G38>SATURATION,"SATURATION",'Plan plaque - Saisie lectures'!G38) -> 0 | AI50: =IF('Plan plaque - Saisie lectures'!H38>SATURATION,"SATURATION",'Plan plaque - Saisie lectures'!H38) -> 0 | AJ50: =IF(G50="NA","NA",((-$E$30)+(SQRT($E$30^2-(4*$E$29*($E$31-G50)))))/(2*$E$29)) -> #VALUE! | AK50: =I50 -> 0 | AL50: =IF(H50="","",AK50*AJ50) | AM50: =STDEV(AH50:AI50)/AVERAGE(AH50:AI50)*100 -> #DIV/0!
D51: ='Plan plaque - Saisie lectures'!G20 -> ECH N°11 | E51: =IF(AH51=0,"",AH51) | F51: =IF(AI51=0,"",AI51) | G51: =IF(AND(ISTEXT(E51),ISTEXT(F51))," ",AVERAGE(E51:F51)) | H51: =IF(G51=" ","",IF(AJ51<$I$13,"<LLOD",AJ51)) | J51: =IF(I51="","",IF(AJ51<$I$13,"<LLOD",AL51)) | K51: =IF(AND(E51="",F51=""),"",IF(OR(E51="",F51=""),"NA",IF(AND(E51="SATURATION",F51="SATURATION"),"NA",IF(OR(E51="SATURATION",F51="SATURATION"),"NA",AM51)))) | AH51: =IF('Plan plaque - Saisie lectures'!G39>SATURATION,"SATURATION",'Plan plaque - Saisie lectures'!G39) -> 0 | AI51: =IF('Plan plaque - Saisie lectures'!H39>SATURATION,"SATURATION",'Plan plaque - Saisie lectures'!H39) -> 0 | AJ51: =IF(G51="NA","NA",((-$E$30)+(SQRT($E$30^2-(4*$E$29*($E$31-G51)))))/(2*$E$29)) -> #VALUE! | AK51: =I51 -> 0 | AL51: =IF(H51="","",AK51*AJ51) | AM51: =STDEV(AH51:AI51)/AVERAGE(AH51:AI51)*100 -> #DIV/0!
D52: ='Plan plaque - Saisie lectures'!G21 -> ECH N°12 | E52: =IF(AH52=0,"",AH52) | F52: =IF(AI52=0,"",AI52) | G52: =IF(AND(ISTEXT(E52),ISTEXT(F52))," ",AVERAGE(E52:F52)) | H52: =IF(G52=" ","",IF(AJ52<$I$13,"<LLOD",AJ52)) | J52: =IF(I52="","",IF(AJ52<$I$13,"<LLOD",AL52)) | K52: =IF(AND(E52="",F52=""),"",IF(OR(E52="",F52=""),"NA",IF(AND(E52="SATURATION",F52="SATURATION"),"NA",IF(OR(E52="SATURATION",F52="SATURATION"),"NA",AM52)))) | AH52: =IF('Plan plaque - Saisie lectures'!G40>SATURATION,"SATURATION",'Plan plaque - Saisie lectures'!G40) -> 0 | AI52: =IF('Plan plaque - Saisie lectures'!H40>SATURATION,"SATURATION",'Plan plaque - Saisie lectures'!H40) -> 0 | AJ52: =IF(G52="NA","NA",((-$E$30)+(SQRT($E$30^2-(4*$E$29*($E$31-G52)))))/(2*$E$29)) -> #VALUE! | AK52: =I52 -> 0 | AL52: =IF(H52="","",AK52*AJ52) | AM52: =STDEV(AH52:AI52)/AVERAGE(AH52:AI52)*100 -> #DIV/0!
D53: ='Plan plaque - Saisie lectures'!G22 -> ECH N°13 | E53: =IF(AH53=0,"",AH53) | F53: =IF(AI53=0,"",AI53) | G53: =IF(AND(ISTEXT(E53),ISTEXT(F53))," ",AVERAGE(E53:F53)) | H53: =IF(G53=" ","",IF(AJ53<$I$13,"<LLOD",AJ53)) | J53: =IF(I53="","",IF(AJ53<$I$13,"<LLOD",AL53)) | K53: =IF(AND(E53="",F53=""),"",IF(OR(E53="",F53=""),"NA",IF(AND(E53="SATURATION",F53="SATURATION"),"NA",IF(OR(E53="SATURATION",F53="SATURATION"),"NA",AM53)))) | AH53: =IF('Plan plaque - Saisie lectures'!G41>SATURATION,"SATURATION",'Plan plaque - Saisie lectures'!G41) -> 0 | AI53: =IF('Plan plaque - Saisie lectures'!H41>SATURATION,"SATURATION",'Plan plaque - Saisie lectures'!H41) -> 0 | AJ53: =IF(G53="NA","NA",((-$E$30)+(SQRT($E$30^2-(4*$E$29*($E$31-G53)))))/(2*$E$29)) -> #VALUE! | AK53: =I53 -> 0 | AL53: =IF(H53="","",AK53*AJ53) | AM53: =STDEV(AH53:AI53)/AVERAGE(AH53:AI53)*100 -> #DIV/0!
D54: ='Plan plaque - Saisie lectures'!G23 -> ECH N°14 | E54: =IF(AH54=0,"",AH54) | F54: =IF(AI54=0,"",AI54) | G54: =IF(AND(ISTEXT(E54),ISTEXT(F54))," ",AVERAGE(E54:F54)) | H54: =IF(G54=" ","",IF(AJ54<$I$13,"<LLOD",AJ54)) | J54: =IF(I54="","",IF(AJ54<$I$13,"<LLOD",AL54)) | K54: =IF(AND(E54="",F54=""),"",IF(OR(E54="",F54=""),"NA",IF(AND(E54="SATURATION",F54="SATURATION"),"NA",IF(OR(E54="SATURATION",F54="SATURATION"),"NA",AM54)))) | AH54: =IF('Plan plaque - Saisie lectures'!G42>SATURATION,"SATURATION",'Plan plaque - Saisie lectures'!G42) -> 0 | AI54: =IF('Plan plaque - Saisie lectures'!H42>SATURATION,"SATURATION",'Plan plaque - Saisie lectures'!H42) -> 0 | AJ54: =IF(G54="NA","NA",((-$E$30)+(SQRT($E$30^2-(4*$E$29*($E$31-G54)))))/(2*$E$29)) -> #VALUE! | AK54: =I54 -> 0 | AL54: =IF(H54="","",AK54*AJ54) | AM54: =STDEV(AH54:AI54)/AVERAGE(AH54:AI54)*100 -> #DIV/0!
D55: ='Plan plaque - Saisie lectures'!G24 -> ECH N°15 | E55: =IF(AH55=0,"",AH55) | F55: =IF(AI55=0,"",AI55) | G55: =IF(AND(ISTEXT(E55),ISTEXT(F55))," ",AVERAGE(E55:F55)) | H55: =IF(G55=" ","",IF(AJ55<$I$13,"<LLOD",AJ55)) | J55: =IF(I55="","",IF(AJ55<$I$13,"<LLOD",AL55)) | K55: =IF(AND(E55="",F55=""),"",IF(OR(E55="",F55=""),"NA",IF(AND(E55="SATURATION",F55="SATURATION"),"NA",IF(OR(E55="SATURATION",F55="SATURATION"),"NA",AM55)))) | AH55: =IF('Plan plaque - Saisie lectures'!G43>SATURATION,"SATURATION",'Plan plaque - Saisie lectures'!G43) -> 0 | AI55: =IF('Plan plaque - Saisie lectures'!H43>SATURATION,"SATURATION",'Plan plaque - Saisie lectures'!H43) -> 0 | AJ55: =IF(G55="NA","NA",((-$E$30)+(SQRT($E$30^2-(4*$E$29*($E$31-G55)))))/(2*$E$29)) -> #VALUE! | AK55: =I55 -> 0 | AL55: =IF(H55="","",AK55*AJ55) | AM55: =STDEV(AH55:AI55)/AVERAGE(AH55:AI55)*100 -> #DIV/0!
D56: ='Plan plaque - Saisie lectures'!G25 -> ECH N°16 | E56: =IF(AH56=0,"",AH56) | F56: =IF(AI56=0,"",AI56) | G56: =IF(AND(ISTEXT(E56),ISTEXT(F56))," ",AVERAGE(E56:F56)) | H56: =IF(G56=" ","",IF(AJ56<$I$13,"<LLOD",AJ56)) | J56: =IF(I56="","",IF(AJ56<$I$13,"<LLOD",AL56)) | K56: =IF(AND(E56="",F56=""),"",IF(OR(E56="",F56=""),"NA",IF(AND(E56="SATURATION",F56="SATURATION"),"NA",IF(OR(E56="SATURATION",F56="SATURATION"),"NA",AM56)))) | AH56: =IF('Plan plaque - Saisie lectures'!G44>SATURATION,"SATURATION",'Plan plaque - Saisie lectures'!G44) -> 0 | AI56: =IF('Plan plaque - Saisie lectures'!H44>SATURATION,"SATURATION",'Plan plaque - Saisie lectures'!H44) -> 0 | AJ56: =IF(G56="NA","NA",((-$E$30)+(SQRT($E$30^2-(4*$E$29*($E$31-G56)))))/(2*$E$29)) -> #VALUE! | AK56: =I56 -> 0 | AL56: =IF(H56="","",AK56*AJ56) | AM56: =STDEV(AH56:AI56)/AVERAGE(AH56:AI56)*100 -> #DIV/0!
D57: ='Plan plaque - Saisie lectures'!I18 -> ECH N°17 | E57: =IF(AH57=0,"",AH57) | F57: =IF(AI57=0,"",AI57) | G57: =IF(AND(ISTEXT(E57),ISTEXT(F57))," ",AVERAGE(E57:F57)) | H57: =IF(G57=" ","",IF(AJ57<$I$13,"<LLOD",AJ57)) | J57: =IF(I57="","",IF(AJ57<$I$13,"<LLOD",AL57)) | K57: =IF(AND(E57="",F57=""),"",IF(OR(E57="",F57=""),"NA",IF(AND(E57="SATURATION",F57="SATURATION"),"NA",IF(OR(E57="SATURATION",F57="SATURATION"),"NA",AM57)))) | AH57: =IF('Plan plaque - Saisie lectures'!I37>SATURATION,"SATURATION",'Plan plaque - Saisie lectures'!I37) -> 0 | AI57: =IF('Plan plaque - Saisie lectures'!J37>SATURATION,"SATURATION",'Plan plaque - Saisie lectures'!J37) -> 0 | AJ57: =IF(G57="NA","NA",((-$E$30)+(SQRT($E$30^2-(4*$E$29*($E$31-G57)))))/(2*$E$29)) -> #VALUE! | AK57: =I57 -> 0 | AL57: =IF(H57="","",AK57*AJ57) | AM57: =STDEV(AH57:AI57)/AVERAGE(AH57:AI57)*100 -> #DIV/0!
D58: ='Plan plaque - Saisie lectures'!I19 -> ECH N°18 | E58: =IF(AH58=0,"",AH58) | F58: =IF(AI58=0,"",AI58) | G58: =IF(AND(ISTEXT(E58),ISTEXT(F58))," ",AVERAGE(E58:F58)) | H58: =IF(G58=" ","",IF(AJ58<$I$13,"<LLOD",AJ58)) | J58: =IF(I58="","",IF(AJ58<$I$13,"<LLOD",AL58)) | K58: =IF(AND(E58="",F58=""),"",IF(OR(E58="",F58=""),"NA",IF(AND(E58="SATURATION",F58="SATURATION"),"NA",IF(OR(E58="SATURATION",F58="SATURATION"),"NA",AM58)))) | AH58: =IF('Plan plaque - Saisie lectures'!I38>SATURATION,"SATURATION",'Plan plaque - Saisie lectures'!I38) -> 0 | AI58: =IF('Plan plaque - Saisie lectures'!J38>SATURATION,"SATURATION",'Plan plaque - Saisie lectures'!J38) -> 0 | AJ58: =IF(G58="NA","NA",((-$E$30)+(SQRT($E$30^2-(4*$E$29*($E$31-G58)))))/(2*$E$29)) -> #VALUE! | AK58: =I58 -> 0 | AL58: =IF(H58="","",AK58*AJ58) | AM58: =STDEV(AH58:AI58)/AVERAGE(AH58:AI58)*100 -> #DIV/0!
D59: ='Plan plaque - Saisie lectures'!I20 -> ECH N°19 | E59: =IF(AH59=0,"",AH59) | F59: =IF(AI59=0,"",AI59) | G59: =IF(AND(ISTEXT(E59),ISTEXT(F59))," ",AVERAGE(E59:F59)) | H59: =IF(G59=" ","",IF(AJ59<$I$13,"<LLOD",AJ59)) | J59: =IF(I59="","",IF(AJ59<$I$13,"<LLOD",AL59)) | K59: =IF(AND(E59="",F59=""),"",IF(OR(E59="",F59=""),"NA",IF(AND(E59="SATURATION",F59="SATURATION"),"NA",IF(OR(E59="SATURATION",F59="SATURATION"),"NA",AM59)))) | AH59: =IF('Plan plaque - Saisie lectures'!I39>SATURATION,"SATURATION",'Plan plaque - Saisie lectures'!I39) -> 0 | AI59: =IF('Plan plaque - Saisie lectures'!J39>SATURATION,"SATURATION",'Plan plaque - Saisie lectures'!J39) -> 0 | AJ59: =IF(G59="NA","NA",((-$E$30)+(SQRT($E$30^2-(4*$E$29*($E$31-G59)))))/(2*$E$29)) -> #VALUE! | AK59: =I59 -> 0 | AL59: =IF(H59="","",AK59*AJ59) | AM59: =STDEV(AH59:AI59)/AVERAGE(AH59:AI59)*100 -> #DIV/0!
D60: ='Plan plaque - Saisie lectures'!I21 -> ECH N°20 | E60: =IF(AH60=0,"",AH60) | F60: =IF(AI60=0,"",AI60) | G60: =IF(AND(ISTEXT(E60),ISTEXT(F60))," ",AVERAGE(E60:F60)) | H60: =IF(G60=" ","",IF(AJ60<$I$13,"<LLOD",AJ60)) | J60: =IF(I60="","",IF(AJ60<$I$13,"<LLOD",AL60)) | K60: =IF(AND(E60="",F60=""),"",IF(OR(E60="",F60=""),"NA",IF(AND(E60="SATURATION",F60="SATURATION"),"NA",IF(OR(E60="SATURATION",F60="SATURATION"),"NA",AM60)))) | AH60: =IF('Plan plaque - Saisie lectures'!I40>SATURATION,"SATURATION",'Plan plaque - Saisie lectures'!I40) -> 0 | AI60: =IF('Plan plaque - Saisie lectures'!J40>SATURATION,"SATURATION",'Plan plaque - Saisie lectures'!J40) -> 0 | AJ60: =IF(G60="NA","NA",((-$E$30)+(SQRT($E$30^2-(4*$E$29*($E$31-G60)))))/(2*$E$29)) -> #VALUE! | AK60: =I60 -> 0 | AL60: =IF(H60="","",AK60*AJ60) | AM60: =STDEV(AH60:AI60)/AVERAGE(AH60:AI60)*100 -> #DIV/0!
D61: ='Plan plaque - Saisie lectures'!I22 -> ECH N°21 | E61: =IF(AH61=0,"",AH61) | F61: =IF(AI61=0,"",AI61) | G61: =IF(AND(ISTEXT(E61),ISTEXT(F61))," ",AVERAGE(E61:F61)) | H61: =IF(G61=" ","",IF(AJ61<$I$13,"<LLOD",AJ61)) | J61: =IF(I61="","",IF(AJ61<$I$13,"<LLOD",AL61)) | K61: =IF(AND(E61="",F61=""),"",IF(OR(E61="",F61=""),"NA",IF(AND(E61="SATURATION",F61="SATURATION"),"NA",IF(OR(E61="SATURATION",F61="SATURATION"),"NA",AM61)))) | AH61: =IF('Plan plaque - Saisie lectures'!I41>SATURATION,"SATURATION",'Plan plaque - Saisie lectures'!I41) -> 0 | AI61: =IF('Plan plaque - Saisie lectures'!J41>SATURATION,"SATURATION",'Plan plaque - Saisie lectures'!J41) -> 0 | AJ61: =IF(G61="NA","NA",((-$E$30)+(SQRT($E$30^2-(4*$E$29*($E$31-G61)))))/(2*$E$29)) -> #VALUE! | AK61: =I61 -> 0 | AL61: =IF(H61="","",AK61*AJ61) | AM61: =STDEV(AH61:AI61)/AVERAGE(AH61:AI61)*100 -> #DIV/0!
D62: ='Plan plaque - Saisie lectures'!I23 -> ECH N°22 | E62: =IF(AH62=0,"",AH62) | F62: =IF(AI62=0,"",AI62) | G62: =IF(AND(ISTEXT(E62),ISTEXT(F62))," ",AVERAGE(E62:F62)) | H62: =IF(G62=" ","",IF(AJ62<$I$13,"<LLOD",AJ62)) | J62: =IF(I62="","",IF(AJ62<$I$13,"<LLOD",AL62)) | K62: =IF(AND(E62="",F62=""),"",IF(OR(E62="",F62=""),"NA",IF(AND(E62="SATURATION",F62="SATURATION"),"NA",IF(OR(E62="SATURATION",F62="SATURATION"),"NA",AM62)))) | AH62: =IF('Plan plaque - Saisie lectures'!I42>SATURATION,"SATURATION",'Plan plaque - Saisie lectures'!I42) -> 0 | AI62: =IF('Plan plaque - Saisie lectures'!J42>SATURATION,"SATURATION",'Plan plaque - Saisie lectures'!J42) -> 0 | AJ62: =IF(G62="NA","NA",((-$E$30)+(SQRT($E$30^2-(4*$E$29*($E$31-G62)))))/(2*$E$29)) -> #VALUE! | AK62: =I62 -> 0 | AL62: =IF(H62="","",AK62*AJ62) | AM62: =STDEV(AH62:AI62)/AVERAGE(AH62:AI62)*100 -> #DIV/0!
D63: ='Plan plaque - Saisie lectures'!I24 -> ECH N°23 | E63: =IF(AH63=0,"",AH63) | F63: =IF(AI63=0,"",AI63) | G63: =IF(AND(ISTEXT(E63),ISTEXT(F63))," ",AVERAGE(E63:F63)) | H63: =IF(G63=" ","",IF(AJ63<$I$13,"<LLOD",AJ63)) | J63: =IF(I63="","",IF(AJ63<$I$13,"<LLOD",AL63)) | K63: =IF(AND(E63="",F63=""),"",IF(OR(E63="",F63=""),"NA",IF(AND(E63="SATURATION",F63="SATURATION"),"NA",IF(OR(E63="SATURATION",F63="SATURATION"),"NA",AM63)))) | AH63: =IF('Plan plaque - Saisie lectures'!I43>SATURATION,"SATURATION",'Plan plaque - Saisie lectures'!I43) -> 0 | AI63: =IF('Plan plaque - Saisie lectures'!J43>SATURATION,"SATURATION",'Plan plaque - Saisie lectures'!J43) -> 0 | AJ63: =IF(G63="NA","NA",((-$E$30)+(SQRT($E$30^2-(4*$E$29*($E$31-G63)))))/(2*$E$29)) -> #VALUE! | AK63: =I63 -> 0 | AL63: =IF(H63="","",AK63*AJ63) | AM63: =STDEV(AH63:AI63)/AVERAGE(AH63:AI63)*100 -> #DIV/0!
D64: ='Plan plaque - Saisie lectures'!I25 -> ECH N°24 | E64: =IF(AH64=0,"",AH64) | F64: =IF(AI64=0,"",AI64) | G64: =IF(AND(ISTEXT(E64),ISTEXT(F64))," ",AVERAGE(E64:F64)) | H64: =IF(G64=" ","",IF(AJ64<$I$13,"<LLOD",AJ64)) | J64: =IF(I64="","",IF(AJ64<$I$13,"<LLOD",AL64)) | K64: =IF(AND(E64="",F64=""),"",IF(OR(E64="",F64=""),"NA",IF(AND(E64="SATURATION",F64="SATURATION"),"NA",IF(OR(E64="SATURATION",F64="SATURATION"),"NA",AM64)))) | AH64: =IF('Plan plaque - Saisie lectures'!I44>SATURATION,"SATURATION",'Plan plaque - Saisie lectures'!I44) -> 0 | AI64: =IF('Plan plaque - Saisie lectures'!J44>SATURATION,"SATURATION",'Plan plaque - Saisie lectures'!J44) -> 0 | AJ64: =IF(G64="NA","NA",((-$E$30)+(SQRT($E$30^2-(4*$E$29*($E$31-G64)))))/(2*$E$29)) -> #VALUE! | AK64: =I64 -> 0 | AL64: =IF(H64="","",AK64*AJ64) | AM64: =STDEV(AH64:AI64)/AVERAGE(AH64:AI64)*100 -> #DIV/0!
D65: ='Plan plaque - Saisie lectures'!K18 -> ECH N°25 | E65: =IF(AH65=0,"",AH65) | F65: =IF(AI65=0,"",AI65) | G65: =IF(AND(ISTEXT(E65),ISTEXT(F65))," ",AVERAGE(E65:F65)) | H65: =IF(G65=" ","",IF(AJ65<$I$13,"<LLOD",AJ65)) | J65: =IF(I65="","",IF(AJ65<$I$13,"<LLOD",AL65)) | K65: =IF(AND(E65="",F65=""),"",IF(OR(E65="",F65=""),"NA",IF(AND(E65="SATURATION",F65="SATURATION"),"NA",IF(OR(E65="SATURATION",F65="SATURATION"),"NA",AM65)))) | AH65: =IF('Plan plaque - Saisie lectures'!K37>SATURATION,"SATURATION",'Plan plaque - Saisie lectures'!K37) -> 0 | AI65: =IF('Plan plaque - Saisie lectures'!L37>SATURATION,"SATURATION",'Plan plaque - Saisie lectures'!L37) -> 0 | AJ65: =IF(G65="NA","NA",((-$E$30)+(SQRT($E$30^2-(4*$E$29*($E$31-G65)))))/(2*$E$29)) -> #VALUE! | AK65: =I65 -> 0 | AL65: =IF(H65="","",AK65*AJ65) | AM65: =STDEV(AH65:AI65)/AVERAGE(AH65:AI65)*100 -> #DIV/0!
D66: ='Plan plaque - Saisie lectures'!K19 -> ECH N°26 | E66: =IF(AH66=0,"",AH66) | F66: =IF(AI66=0,"",AI66) | G66: =IF(AND(ISTEXT(E66),ISTEXT(F66))," ",AVERAGE(E66:F66)) | H66: =IF(G66=" ","",IF(AJ66<$I$13,"<LLOD",AJ66)) | J66: =IF(I66="","",IF(AJ66<$I$13,"<LLOD",AL66)) | K66: =IF(AND(E66="",F66=""),"",IF(OR(E66="",F66=""),"NA",IF(AND(E66="SATURATION",F66="SATURATION"),"NA",IF(OR(E66="SATURATION",F66="SATURATION"),"NA",AM66)))) | AH66: =IF('Plan plaque - Saisie lectures'!K38>SATURATION,"SATURATION",'Plan plaque - Saisie lectures'!K38) -> 0 | AI66: =IF('Plan plaque - Saisie lectures'!L38>SATURATION,"SATURATION",'Plan plaque - Saisie lectures'!L38) -> 0 | AJ66: =IF(G66="NA","NA",((-$E$30)+(SQRT($E$30^2-(4*$E$29*($E$31-G66)))))/(2*$E$29)) -> #VALUE! | AK66: =I66 -> 0 | AL66: =IF(H66="","",AK66*AJ66) | AM66: =STDEV(AH66:AI66)/AVERAGE(AH66:AI66)*100 -> #DIV/0!
D67: ='Plan plaque - Saisie lectures'!K20 -> ECH N°27 | E67: =IF(AH67=0,"",AH67) | F67: =IF(AI67=0,"",AI67) | G67: =IF(AND(ISTEXT(E67),ISTEXT(F67))," ",AVERAGE(E67:F67)) | H67: =IF(G67=" ","",IF(AJ67<$I$13,"<LLOD",AJ67)) | J67: =IF(I67="","",IF(AJ67<$I$13,"<LLOD",AL67)) | K67: =IF(AND(E67="",F67=""),"",IF(OR(E67="",F67=""),"NA",IF(AND(E67="SATURATION",F67="SATURATION"),"NA",IF(OR(E67="SATURATION",F67="SATURATION"),"NA",AM67)))) | AH67: =IF('Plan plaque - Saisie lectures'!K39>SATURATION,"SATURATION",'Plan plaque - Saisie lectures'!K39) -> 0 | AI67: =IF('Plan plaque - Saisie lectures'!L39>SATURATION,"SATURATION",'Plan plaque - Saisie lectures'!L39) -> 0 | AJ67: =IF(G67="NA","NA",((-$E$30)+(SQRT($E$30^2-(4*$E$29*($E$31-G67)))))/(2*$E$29)) -> #VALUE! | AK67: =I67 -> 0 | AL67: =IF(H67="","",AK67*AJ67) | AM67: =STDEV(AH67:AI67)/AVERAGE(AH67:AI67)*100 -> #DIV/0!
D68: ='Plan plaque - Saisie lectures'!K21 -> ECH N°28 | E68: =IF(AH68=0,"",AH68) | F68: =IF(AI68=0,"",AI68) | G68: =IF(AND(ISTEXT(E68),ISTEXT(F68))," ",AVERAGE(E68:F68)) | H68: =IF(G68=" ","",IF(AJ68<$I$13,"<LLOD",AJ68)) | J68: =IF(I68="","",IF(AJ68<$I$13,"<LLOD",AL68)) | K68: =IF(AND(E68="",F68=""),"",IF(OR(E68="",F68=""),"NA",IF(AND(E68="SATURATION",F68="SATURATION"),"NA",IF(OR(E68="SATURATION",F68="SATURATION"),"NA",AM68)))) | AH68: =IF('Plan plaque - Saisie lectures'!K40>SATURATION,"SATURATION",'Plan plaque - Saisie lectures'!K40) -> 0 | AI68: =IF('Plan plaque - Saisie lectures'!L40>SATURATION,"SATURATION",'Plan plaque - Saisie lectures'!L40) -> 0 | AJ68: =IF(G68="NA","NA",((-$E$30)+(SQRT($E$30^2-(4*$E$29*($E$31-G68)))))/(2*$E$29)) -> #VALUE! | AK68: =I68 -> 0 | AL68: =IF(H68="","",AK68*AJ68) | AM68: =STDEV(AH68:AI68)/AVERAGE(AH68:AI68)*100 -> #DIV/0!
D69: ='Plan plaque - Saisie lectures'!K22 -> ECH N°29 | E69: =IF(AH69=0,"",AH69) | F69: =IF(AI69=0,"",AI69) | G69: =IF(AND(ISTEXT(E69),ISTEXT(F69))," ",AVERAGE(E69:F69)) | H69: =IF(G69=" ","",IF(AJ69<$I$13,"<LLOD",AJ69)) | J69: =IF(I69="","",IF(AJ69<$I$13,"<LLOD",AL69)) | K69: =IF(AND(E69="",F69=""),"",IF(OR(E69="",F69=""),"NA",IF(AND(E69="SATURATION",F69="SATURATION"),"NA",IF(OR(E69="SATURATION",F69="SATURATION"),"NA",AM69)))) | AH69: =IF('Plan plaque - Saisie lectures'!K41>SATURATION,"SATURATION",'Plan plaque - Saisie lectures'!K41) -> 0 | AI69: =IF('Plan plaque - Saisie lectures'!L41>SATURATION,"SATURATION",'Plan plaque - Saisie lectures'!L41) -> 0 | AJ69: =IF(G69="NA","NA",((-$E$30)+(SQRT($E$30^2-(4*$E$29*($E$31-G69)))))/(2*$E$29)) -> #VALUE! | AK69: =I69 -> 0 | AL69: =IF(H69="","",AK69*AJ69) | AM69: =STDEV(AH69:AI69)/AVERAGE(AH69:AI69)*100 -> #DIV/0!
D70: ='Plan plaque - Saisie lectures'!K23 -> ECH N°30 | E70: =IF(AH70=0,"",AH70) | F70: =IF(AI70=0,"",AI70) | G70: =IF(AND(ISTEXT(E70),ISTEXT(F70))," ",AVERAGE(E70:F70)) | H70: =IF(G70=" ","",IF(AJ70<$I$13,"<LLOD",AJ70)) | J70: =IF(I70="","",IF(AJ70<$I$13,"<LLOD",AL70)) | K70: =IF(AND(E70="",F70=""),"",IF(OR(E70="",F70=""),"NA",IF(AND(E70="SATURATION",F70="SATURATION"),"NA",IF(OR(E70="SATURATION",F70="SATURATION"),"NA",AM70)))) | AH70: =IF('Plan plaque - Saisie lectures'!K42>SATURATION,"SATURATION",'Plan plaque - Saisie lectures'!K42) -> 0 | AI70: =IF('Plan plaque - Saisie lectures'!L42>SATURATION,"SATURATION",'Plan plaque - Saisie lectures'!L42) -> 0 | AJ70: =IF(G70="NA","NA",((-$E$30)+(SQRT($E$30^2-(4*$E$29*($E$31-G70)))))/(2*$E$29)) -> #VALUE! | AK70: =I70 -> 0 | AL70: =IF(H70="","",AK70*AJ70) | AM70: =STDEV(AH70:AI70)/AVERAGE(AH70:AI70)*100 -> #DIV/0!
D71: ='Plan plaque - Saisie lectures'!K24 -> ECH N°31 | E71: =IF(AH71=0,"",AH71) | F71: =IF(AI71=0,"",AI71) | G71: =IF(AND(ISTEXT(E71),ISTEXT(F71))," ",AVERAGE(E71:F71)) | H71: =IF(G71=" ","",IF(AJ71<$I$13,"<LLOD",AJ71)) | J71: =IF(I71="","",IF(AJ71<$I$13,"<LLOD",AL71)) | K71: =IF(AND(E71="",F71=""),"",IF(OR(E71="",F71=""),"NA",IF(AND(E71="SATURATION",F71="SATURATION"),"NA",IF(OR(E71="SATURATION",F71="SATURATION"),"NA",AM71)))) | AH71: =IF('Plan plaque - Saisie lectures'!K43>SATURATION,"SATURATION",'Plan plaque - Saisie lectures'!K43) -> 0 | AI71: =IF('Plan plaque - Saisie lectures'!L43>SATURATION,"SATURATION",'Plan plaque - Saisie lectures'!L43) -> 0 | AJ71: =IF(G71="NA","NA",((-$E$30)+(SQRT($E$30^2-(4*$E$29*($E$31-G71)))))/(2*$E$29)) -> #VALUE! | AK71: =I71 -> 0 | AL71: =IF(H71="","",AK71*AJ71) | AM71: =STDEV(AH71:AI71)/AVERAGE(AH71:AI71)*100 -> #DIV/0!
D72: ='Plan plaque - Saisie lectures'!K25 -> ECH N°32 | E72: =IF(AH72=0,"",AH72) | F72: =IF(AI72=0,"",AI72) | G72: =IF(AND(ISTEXT(E72),ISTEXT(F72))," ",AVERAGE(E72:F72)) | H72: =IF(G72=" ","",IF(AJ72<$I$13,"<LLOD",AJ72)) | J72: =IF(I72="","",IF(AJ72<$I$13,"<LLOD",AL72)) | K72: =IF(AND(E72="",F72=""),"",IF(OR(E72="",F72=""),"NA",IF(AND(E72="SATURATION",F72="SATURATION"),"NA",IF(OR(E72="SATURATION",F72="SATURATION"),"NA",AM72)))) | AH72: =IF('Plan plaque - Saisie lectures'!K44>SATURATION,"SATURATION",'Plan plaque - Saisie lectures'!K44) -> 0 | AI72: =IF('Plan plaque - Saisie lectures'!L44>SATURATION,"SATURATION",'Plan plaque - Saisie lectures'!L44) -> 0 | AJ72: =IF(G72="NA","NA",((-$E$30)+(SQRT($E$30^2-(4*$E$29*($E$31-G72)))))/(2*$E$29)) -> #VALUE! | AK72: =I72 -> 0 | AL72: =IF(H72="","",AK72*AJ72) | AM72: =STDEV(AH72:AI72)/AVERAGE(AH72:AI72)*100 -> #DIV/0!
D73: ='Plan plaque - Saisie lectures'!M18 -> ECH N°33 | E73: =IF(AH73=0,"",AH73) | F73: =IF(AI73=0,"",AI73) | G73: =IF(AND(ISTEXT(E73),ISTEXT(F73))," ",AVERAGE(E73:F73)) | H73: =IF(G73=" ","",IF(AJ73<$I$13,"<LLOD",AJ73)) | J73: =IF(I73="","",IF(AJ73<$I$13,"<LLOD",AL73)) | K73: =IF(AND(E73="",F73=""),"",IF(OR(E73="",F73=""),"NA",IF(AND(E73="SATURATION",F73="SATURATION"),"NA",IF(OR(E73="SATURATION",F73="SATURATION"),"NA",AM73)))) | AH73: =IF('Plan plaque - Saisie lectures'!M37>SATURATION,"SATURATION",'Plan plaque - Saisie lectures'!M37) -> 0 | AI73: =IF('Plan plaque - Saisie lectures'!N37>SATURATION,"SATURATION",'Plan plaque - Saisie lectures'!N37) -> 0 | AJ73: =IF(G73="NA","NA",((-$E$30)+(SQRT($E$30^2-(4*$E$29*($E$31-G73)))))/(2*$E$29)) -> #VALUE! | AK73: =I73 -> 0 | AL73: =IF(H73="","",AK73*AJ73) | AM73: =STDEV(AH73:AI73)/AVERAGE(AH73:AI73)*100 -> #DIV/0!
D74: ='Plan plaque - Saisie lectures'!M19 -> ECH N°34 | E74: =IF(AH74=0,"",AH74) | F74: =IF(AI74=0,"",AI74) | G74: =IF(AND(ISTEXT(E74),ISTEXT(F74))," ",AVERAGE(E74:F74)) | H74: =IF(G74=" ","",IF(AJ74<$I$13,"<LLOD",AJ74)) | J74: =IF(I74="","",IF(AJ74<$I$13,"<LLOD",AL74)) | K74: =IF(AND(E74="",F74=""),"",IF(OR(E74="",F74=""),"NA",IF(AND(E74="SATURATION",F74="SATURATION"),"NA",IF(OR(E74="SATURATION",F74="SATURATION"),"NA",AM74)))) | AH74: =IF('Plan plaque - Saisie lectures'!M38>SATURATION,"SATURATION",'Plan plaque - Saisie lectures'!M38) -> 0 | AI74: =IF('Plan plaque - Saisie lectures'!N38>SATURATION,"SATURATION",'Plan plaque - Saisie lectures'!N38) -> 0 | AJ74: =IF(G74="NA","NA",((-$E$30)+(SQRT($E$30^2-(4*$E$29*($E$31-G74)))))/(2*$E$29)) -> #VALUE! | AK74: =I74 -> 0 | AL74: =IF(H74="","",AK74*AJ74) | AM74: =STDEV(AH74:AI74)/AVERAGE(AH74:AI74)*100 -> #DIV/0!
D75: ='Plan plaque - Saisie lectures'!M20 -> ECH N°35 | E75: =IF(AH75=0,"",AH75) | F75: =IF(AI75=0,"",AI75) | G75: =IF(AND(ISTEXT(E75),ISTEXT(F75))," ",AVERAGE(E75:F75)) | H75: =IF(G75=" ","",IF(AJ75<$I$13,"<LLOD",AJ75)) | J75: =IF(I75="","",IF(AJ75<$I$13,"<LLOD",AL75)) | K75: =IF(AND(E75="",F75=""),"",IF(OR(E75="",F75=""),"NA",IF(AND(E75="SATURATION",F75="SATURATION"),"NA",IF(OR(E75="SATURATION",F75="SATURATION"),"NA",AM75)))) | AH75: =IF('Plan plaque - Saisie lectures'!M39>SATURATION,"SATURATION",'Plan plaque - Saisie lectures'!M39) -> 0 | AI75: =IF('Plan plaque - Saisie lectures'!N39>SATURATION,"SATURATION",'Plan plaque - Saisie lectures'!N39) -> 0 | AJ75: =IF(G75="NA","NA",((-$E$30)+(SQRT($E$30^2-(4*$E$29*($E$31-G75)))))/(2*$E$29)) -> #VALUE! | AK75: =I75 -> 0 | AL75: =IF(H75="","",AK75*AJ75) | AM75: =STDEV(AH75:AI75)/AVERAGE(AH75:AI75)*100 -> #DIV/0!
D76: ='Plan plaque - Saisie lectures'!M21 -> ECH N°36 | E76: =IF(AH76=0,"",AH76) | F76: =IF(AI76=0,"",AI76) | G76: =IF(AND(ISTEXT(E76),ISTEXT(F76))," ",AVERAGE(E76:F76)) | H76: =IF(G76=" ","",IF(AJ76<$I$13,"<LLOD",AJ76)) | J76: =IF(I76="","",IF(AJ76<$I$13,"<LLOD",AL76)) | K76: =IF(AND(E76="",F76=""),"",IF(OR(E76="",F76=""),"NA",IF(AND(E76="SATURATION",F76="SATURATION"),"NA",IF(OR(E76="SATURATION",F76="SATURATION"),"NA",AM76)))) | AH76: =IF('Plan plaque - Saisie lectures'!M40>SATURATION,"SATURATION",'Plan plaque - Saisie lectures'!M40) -> 0 | AI76: =IF('Plan plaque - Saisie lectures'!N40>SATURATION,"SATURATION",'Plan plaque - Saisie lectures'!N40) -> 0 | AJ76: =IF(G76="NA","NA",((-$E$30)+(SQRT($E$30^2-(4*$E$29*($E$31-G76)))))/(2*$E$29)) -> #VALUE! | AK76: =I76 -> 0 | AL76: =IF(H76="","",AK76*AJ76) | AM76: =STDEV(AH76:AI76)/AVERAGE(AH76:AI76)*100 -> #DIV/0!
D77: ='Plan plaque - Saisie lectures'!M22 -> ECH N°37 | E77: =IF(AH77=0,"",AH77) | F77: =IF(AI77=0,"",AI77) | G77: =IF(AND(ISTEXT(E77),ISTEXT(F77))," ",AVERAGE(E77:F77)) | H77: =IF(G77=" ","",IF(AJ77<$I$13,"<LLOD",AJ77)) | J77: =IF(I77="","",IF(AJ77<$I$13,"<LLOD",AL77)) | K77: =IF(AND(E77="",F77=""),"",IF(OR(E77="",F77=""),"NA",IF(AND(E77="SATURATION",F77="SATURATION"),"NA",IF(OR(E77="SATURATION",F77="SATURATION"),"NA",AM77)))) | AH77: =IF('Plan plaque - Saisie lectures'!M41>SATURATION,"SATURATION",'Plan plaque - Saisie lectures'!M41) -> 0 | AI77: =IF('Plan plaque - Saisie lectures'!N41>SATURATION,"SATURATION",'Plan plaque - Saisie lectures'!N41) -> 0 | AJ77: =IF(G77="NA","NA",((-$E$30)+(SQRT($E$30^2-(4*$E$29*($E$31-G77)))))/(2*$E$29)) -> #VALUE! | AK77: =I77 -> 0 | AL77: =IF(H77="","",AK77*AJ77) | AM77: =STDEV(AH77:AI77)/AVERAGE(AH77:AI77)*100 -> #DIV/0!
D78: ='Plan plaque - Saisie lectures'!M23 -> ECH N°38 | E78: =IF(AH78=0,"",AH78) | F78: =IF(AI78=0,"",AI78) | G78: =IF(AND(ISTEXT(E78),ISTEXT(F78))," ",AVERAGE(E78:F78)) | H78: =IF(G78=" ","",IF(AJ78<$I$13,"<LLOD",AJ78)) | J78: =IF(I78="","",IF(AJ78<$I$13,"<LLOD",AL78)) | K78: =IF(AND(E78="",F78=""),"",IF(OR(E78="",F78=""),"NA",IF(AND(E78="SATURATION",F78="SATURATION"),"NA",IF(OR(E78="SATURATION",F78="SATURATION"),"NA",AM78)))) | AH78: =IF('Plan plaque - Saisie lectures'!M42>SATURATION,"SATURATION",'Plan plaque - Saisie lectures'!M42) -> 0 | AI78: =IF('Plan plaque - Saisie lectures'!N42>SATURATION,"SATURATION",'Plan plaque - Saisie lectures'!N42) -> 0 | AJ78: =IF(G78="NA","NA",((-$E$30)+(SQRT($E$30^2-(4*$E$29*($E$31-G78)))))/(2*$E$29)) -> #VALUE! | AK78: =I78 -> 0 | AL78: =IF(H78="","",AK78*AJ78) | AM78: =STDEV(AH78:AI78)/AVERAGE(AH78:AI78)*100 -> #DIV/0!
D79: ='Plan plaque - Saisie lectures'!M24 -> ECH N°39 | E79: =IF(AH79=0,"",AH79) | F79: =IF(AI79=0,"",AI79) | G79: =IF(AND(ISTEXT(E79),ISTEXT(F79))," ",AVERAGE(E79:F79)) | H79: =IF(G79=" ","",IF(AJ79<$I$13,"<LLOD",AJ79)) | J79: =IF(I79="","",IF(AJ79<$I$13,"<LLOD",AL79)) | K79: =IF(AND(E79="",F79=""),"",IF(OR(E79="",F79=""),"NA",IF(AND(E79="SATURATION",F79="SATURATION"),"NA",IF(OR(E79="SATURATION",F79="SATURATION"),"NA",AM79)))) | AH79: =IF('Plan plaque - Saisie lectures'!M43>SATURATION,"SATURATION",'Plan plaque - Saisie lectures'!M43) -> 0 | AI79: =IF('Plan plaque - Saisie lectures'!N43>SATURATION,"SATURATION",'Plan plaque - Saisie lectures'!N43) -> 0 | AJ79: =IF(G79="NA","NA",((-$E$30)+(SQRT($E$30^2-(4*$E$29*($E$31-G79)))))/(2*$E$29)) -> #VALUE! | AK79: =I79 -> 0 | AL79: =IF(H79="","",AK79*AJ79) | AM79: =STDEV(AH79:AI79)/AVERAGE(AH79:AI79)*100 -> #DIV/0!
D80: ='Plan plaque - Saisie lectures'!M25 -> ECH N°40 | E80: =IF(AH80=0,"",AH80) | F80: =IF(AI80=0,"",AI80) | G80: =IF(AND(ISTEXT(E80),ISTEXT(F80))," ",AVERAGE(E80:F80)) | H80: =IF(G80=" ","",IF(AJ80<$I$13,"<LLOD",AJ80)) | J80: =IF(I80="","",IF(AJ80<$I$13,"<LLOD",AL80)) | K80: =IF(AND(E80="",F80=""),"",IF(OR(E80="",F80=""),"NA",IF(AND(E80="SATURATION",F80="SATURATION"),"NA",IF(OR(E80="SATURATION",F80="SATURATION"),"NA",AM80)))) | AH80: =IF('Plan plaque - Saisie lectures'!M44>SATURATION,"SATURATION",'Plan plaque - Saisie lectures'!M44) -> 0 | AI80: =IF('Plan plaque - Saisie lectures'!N44>SATURATION,"SATURATION",'Plan plaque - Saisie lectures'!N44) -> 0 | AJ80: =IF(G80="NA","NA",((-$E$30)+(SQRT($E$30^2-(4*$E$29*($E$31-G80)))))/(2*$E$29)) -> #VALUE! | AK80: =I80 -> 0 | AL80: =IF(H80="","",AK80*AJ80) | AM80: =STDEV(AH80:AI80)/AVERAGE(AH80:AI80)*100 -> #DIV/0!
B84: Visa Opérateur : | C84: …...........................
B86: Validation : | C86: …...........................
J87: Page 3/3
