Workbook
Name A: Résultats!$E$29
Name A: #REF!
Name ABS_LOD: Résultats!$AN$22
Name ABS_LOD: #REF!
Name ABS_LOQ: Résultats!$AN$23
Name ABS_LOQ: #REF!
Name COEFF_A: Résultats!$E$29
Name COEFF_A: #REF!
Name COEFF_B: Résultats!$E$30
Name COEFF_B: #REF!
Name COEFF_C: Résultats!$E$31
Name COEFF_C: #REF!
Name NSB: Résultats!$AN$20
Name NSB: #REF!
Name SATURATION: Résultats!$I$15
Name SATURATION: #REF!

Sheet Informations générales
A1: Anthrax_quantif_V02
A2: ELISA ANTHRAX eZYDIAG® Quantitatif
A4: Laboratoire
A5: Date
A6: Opérateur
A7: Date d’ouverture du kit et des réactifs
A8: Nombre d’utilisations préalables du kit
A9: Agitateur (marque, modèle)
A10: Laveur (marque, modèle)
A11: Respect des protocoles de lavage* : oui/non
A12: Lecteur (marque modèle)
A13: Heure de début de manipulation
... A22: REMARQUES
B24: Page 1/3

Sheet Plan plaque - Saisie lectures
B2: ELISA ANTHRAX eZYDIAG® Quantitatif
B5: Laboratoire | D5: ….................................................. | L5: Lot kit | M5: …....................................
B6: Date (jj/mm/aaaa) | D6: ….................................................. | L6: Péremption | M6: …....................................
B7: Opérateur | D7: …..................................................
B12: PLAN DE PLAQUE
C16: STANDARDS | F16: SAISIR L'IDENTIFIANT DE CHACUN DE VOS ECHANTILLONS DANS LES CASES
C17: 1 | D17: 2 | E17: 3 | F17: 4 | G17: 5 | H17: 6 | I17: 7 | J17: 8 | K17: 9 | L17: 10 | M17: 11 | N17: 12
B18: A | C18: STD 200 | E18: ECH N°1 | G18: ECH N°9 | I18: ECH N°17 | K18: ECH N°25 | M18: ECH N°33
B19: B | C19: STD 100 | E19: ECH N°2 | G19: ECH N°10 | I19: ECH N°18 | K19: ECH N°26 | M19: ECH N°34
B20: C | C20: STD 50 | E20: ECH N°3 | G20: ECH N°11 | I20: ECH N°19 | K20: ECH N°27 | M20: ECH N°35
B21: D | C21: STD 25 | E21: ECH N°4 | G21: ECH N°12 | I21: ECH N°20 | K21: ECH N°28 | M21: ECH N°36
B22: E | C22: STD 12,5 | E22: ECH N°5 | G22: ECH N°13 | I22: ECH N°21 | K22: ECH N°29 | M22: ECH N°37
B23: F | C23: STD 6,25 | E23: ECH N°6 | G23: ECH N°14 | I23: ECH N°22 | K23: ECH N°30 | M23: ECH N°38
B24: G | C24: STD0 | E24: ECH N°7 | G24: ECH N°15 | I24: ECH N°23 | K24: ECH N°31 | M24: ECH N°39
B25: H | C25: STD0 | E25: ECH N°8 | G25: ECH N°16 | I25: ECH N°24 | K25: ECH N°32 | M25: ECH N°40
B31: Données expérimentales à entrer en Unité d'Absorbance = (DO 450 nm) - (DO 630 ou 620 nm)
H34: (Respecter le plan de plaque défini ci-dessus)
C36: =+IF(AND(ISERR(C37*2),LEN(C37)>0),"Pb saisie",1) -> 1 | D36: =+IF(AND(ISERR(D37*2),LEN(D37)>0),"Pb saisie",2) -> 2 | E36: =+IF(AND(ISERR(E37*2),LEN(E37)>0),"Pb saisie",3) -> 3 | F36: =+IF(AND(ISERR(F37*2),LEN(F37)>0),"Pb saisie",4) -> 4 | G36: =+IF(AND(ISERR(G37*2),LEN(G37)>0),"Pb saisie",5) -> 5 | H36: =+IF(AND(ISERR(H37*2),LEN(H37)>0),"Pb saisie",6) -> 6 | I36: =+IF(AND(ISERR(I37*2),LEN(I37)>0),"Pb saisie",7) -> 7 | J36: =+IF(AND(ISERR(J37*2),LEN(J37)>0),"Pb saisie",8) -> 8 | K36: =+IF(AND(ISERR(K37*2),LEN(K37)>0),"Pb saisie",9) -> 9 | L36: =+IF(AND(ISERR(L37*2),LEN(L37)>0),"Pb saisie",10) -> 10 | M36: =+IF(AND(ISERR(M37*2),LEN(M37)>0),"Pb saisie",11) -> 11 | N36: =+IF(AND(ISERR(N37*2),LEN(N37)>0),"Pb saisie",12) -> 12
B37: A
B38: B
B39: C
B40: D
B41: E
B42: F
B43: G
B44: H
B48: REMARQUES
N68: Page 2/3

Sheet Résultats
B2: ELISA ANTHRAX eZYDIAG® Quantitatif
B5: Laboratoire | C5: ='Plan plaque - Saisie lectures'!D5 -> ….................................................. | H5: Lot Kit | I5: ='Plan plaque - Saisie lectures'!$M$5 -> …....................................
B6: Date | C6: ='Plan plaque - Saisie lectures'!$D$6 -> ….................................................. | H6: Date péremption | I6: ='Plan plaque - Saisie lectures'!$M$6 -> …....................................
B7: Opérateur | C7: ='Plan plaque - Saisie lectures'!$D$7 -> …..................................................
B9: PROTOCOLE QUANTITATIF
B12: Témoin négatif (TN) Liaison non spécifique | F12: Acceptance criteria NC ≤ 0,025 | H12: Calcul des limites de détection et quantification | J12: Acceptance criteria LOD < LOQ
B13: Abs (DO) | D13: Moyenne (DO) = | E13: =IF(ISERR(AN20),"", AN20) | F13: =IF(E13="","",IF(E13>0.025,"NOT COMPIANT","COMPLIANT")) | H13: Limite de détection LOD (pg/mL) = | I13: =IF(SUM(C21:D26)=0,"",((-$E$30)+(SQRT($E$30^2-(4*$E$29*($E$31-AN23)))))/(2*$E$29)) | J13: =IF(I13="","",IF(I13<I14,"COMPLIANT","NOT COMPLIANT"))
B14: =IF(AL20=0,"", AL20) | D14: Ecart type ET = | E14: =IF(ISERR(AN21),"", AN21) | H14: Limite de quantification LOQ (pg/mL) = | I14: =IF(SUM(C21:D26)=0,"",6.25)
B15: =IF(AL21=0,"", AL21) | D15: Moy + 3 ET = | E15: =IF(ISERR(AN22),"", AN22) | H15: Signal saturation (DO) = | I15: =IF(SUM(C21:D26)=0,"",MAX(C21:D26)+0.2)
B16: =IF(AL22=0,"", AL22) | D16: Moy + 10 ET = | E16: =IF(ISERR(AN23),"", AN23)
B17: =IF(AL23=0,"", AL23)
B19: Gamme standard | G19: Acceptance criteria (DO STD 200 ≥ 1,300 | AI19: STD rep 1 | AJ19: STD rep2 | AL19: TN
B20: Toxin LF (pg/mL) | C20: Abs 1 (DO) | D20: Abs 2 (DO) | E20: Moyenne (DO) | F20: CV (%) | AH20: =IF(E21>SATURATION,0,B21) -> 200 | AI20: ='Plan plaque - Saisie lectures'!$C37 -> 0 | AJ20: ='Plan plaque - Saisie lectures'!$D37 -> 0 | AK20: =IF(E21>SATURATION,NSB,E21) | AL20: ='Plan plaque - Saisie lectures'!C43 -> 0 | AM20: Moyenne (DO) = | AN20: =AVERAGE(B14:B17) -> #DIV/0!
B21: 200 | C21: =IF(AI20=0,"",AI20) | D21: =IF(AJ20=0,"",AJ20) | E21: =IF(AND(ISTEXT(C21),ISTEXT(D21)), "",AVERAGE(C21:D21)) | F21: =IF(AND(C21="",D21=""),"",IF(OR(C21="",D21=""),"NA",STDEV(C21:D21)/E21*100)) | G21: =IF(E21="","",IF(E21<1.3,"NOT COMPIANT","COMPLIANT")) | AH21: =IF(E22>SATURATION,0,B22) -> 100 | AI21: ='Plan plaque - Saisie lectures'!$C38 -> 0 | AJ21: ='Plan plaque - Saisie lectures'!$D38 -> 0 | AK21: =IF(E22>SATURATION,NSB,E22) | AL21: ='Plan plaque - Saisie lectures'!D43 -> 0 | AM21: Ecart type ET = | AN21: =STDEV(B14:B17) -> #DIV/0!
B22: 100 | C22: =IF(AI21=0,"",AI21) | D22: =IF(AJ21=0,"",AJ21) | E22: =IF(AND(ISTEXT(C22),ISTEXT(D22)), "",AVERAGE(C22:D22)) | F22: =IF(AND(C22="",D22=""),"",IF(OR(C22="",D22=""),"NA",STDEV(C22:D22)/E22*100)) | AH22: =IF(E23>SATURATION,0,B23) -> 50 | AI22: ='Plan plaque - Saisie lectures'!$C39 -> 0 | AJ22: ='Plan plaque - Saisie lectures'!$D39 -> 0 | AK22: =IF(E23>SATURATION,NSB,E23) | AL22: ='Plan plaque - Saisie lectures'!C44 -> 0 | AM22: Moy + 3 ET = | AN22: =AN20+3*AN21 -> #DIV/0!
B23: 50 | C23: =IF(AI22=0,"",AI22) | D23: =IF(AJ22=0,"",AJ22) | E23: =IF(AND(ISTEXT(C23),ISTEXT(D23)), "",AVERAGE(C23:D23)) | F23: =IF(AND(C23="",D23=""),"",IF(OR(C23="",D23=""),"NA",STDEV(C23:D23)/E23*100)) | AH23: =IF(E24>SATURATION,0,B24) -> 25 | AI23: ='Plan plaque - Saisie lectures'!$C40 -> 0 | AJ23: ='Plan plaque - Saisie lectures'!$D40 -> 0 | AK23: =IF(E24>SATURATION,NSB,E24) | AL23: ='Plan plaque - Saisie lectures'!D44 -> 0 | AM23: Moy + 10 ET = | AN23: =AN20+10*AN21 -> #DIV/0!
B24: 25 | C24: =IF(AI23=0,"",AI23) | D24: =IF(AJ23=0,"",AJ23) | E24: =IF(AND(ISTEXT(C24),ISTEXT(D24)), "",AVERAGE(C24:D24)) | F24: =IF(AND(C24="",D24=""),"",IF(OR(C24="",D24=""),"NA",STDEV(C24:D24)/E24*100)) | G24: Acceptance criteria ( DO STD 6,25 / DO TN) ≥ 2 | AH24: =IF(E25>SATURATION,0,B25) -> 12.5 | AI24: ='Plan plaque - Saisie lectures'!$C41 -> 0 | AJ24: ='Plan plaque - Saisie lectures'!$D41 -> 0 | AK24: =IF(E25>SATURATION,NSB,E25)
B25: 12.5 | C25: =IF(AI24=0,"",AI24) | D25: =IF(AJ24=0,"",AJ24) | E25: =IF(AND(ISTEXT(C25),ISTEXT(D25)), "",AVERAGE(C25:D25)) | F25: =IF(AND(C25="",D25=""),"",IF(OR(C25="",D25=""),"NA",STDEV(C25:D25)/E25*100)) | AH25: =IF(E26>SATURATION,0,B26) -> 6.25 | AI25: ='Plan plaque - Saisie lectures'!$C42 -> 0 | AJ25: ='Plan plaque - Saisie lectures'!$D42 -> 0 | AK25: =IF(E26>SATURATION,NSB,E26)
B26: 6.25 | C26: =IF(AI25=0,"",AI25) | D26: =IF(AJ25=0,"",AJ25) | E26: =IF(AND(ISTEXT(C26),ISTEXT(D26)), "",AVERAGE(C26:D26)) | F26: =IF(AND(C26="",D26=""),"",IF(OR(C26="",D26=""),"NA",STDEV(C26:D26)/E26*100)) | G26: =IF(E26="","",IF(E26/E13<2,"NOT COMPIANT","COMPLIANT")) | AH26: 0 | AK26: =NSB -> #DIV/0!
B28: Paramètres de la courbe de calibration (y = Ax2+Bx+C)
D29: A | E29: =INDEX(LINEST($AK$20:$AK$26,$AH$20:$AH$26^{1,2}),1,1) -> #VALUE!
D30: B | E30: =INDEX(LINEST($AK$20:$AK$26,$AH$20:$AH$26^{1,2}),1,2) -> #VALUE! | F30: Acceptance criteria r² ≥ 0,99
D31: C | E31: =INDEX(LINEST($AK$20:$AK$26,$AH$20:$AH$26^{1,2}),1,3) -> #VALUE!
B32: Coefficient de corrélation | D32: r² | E32: =INDEX(LINEST($AK$20:$AK$26,$AH$20:$AH$26^{1,2},TRUE,TRUE),3,1) -> #VALUE! | F32: =IF(E32="","",IF(E32<0.99,"NOT COMPIANT","COMPLIANT")) -> #VALUE!
I37: *Compléter le facteur de dilution
D38: Résultats échantillons | AK38: facteur de dilution | AL38: concentration non diluée | AM38: Cv (%) | AN38: precision
D40: Echantillon | E40: Abs 1 (DO) | F40: Abs 2 (DO) | G40: Moyenne (DO) | H40: Concentration diluée (pg/mL) | I40: Facteur de dilution | J40: Concentration (pg/mL) | K40: CV (%) | AJ40: =IF(SUM(AH40:AI40)=0,"", ((-$E$30)+(SQRT($E$30^2-(4*$E$29*($E$31-#REF!)))))/(2*$E$29))
D41: ='Plan plaque - Saisie lectures'!E18 -> ECH N°1 | E41: =IF(AH41=0,"",AH41) | F41: =IF(AI41=0,"",AI41) | G41: =IF(AND(ISTEXT(E41),ISTEXT(F41))," ",AVERAGE(E41:F41)) | H41: =IF(G41=" ","",IF(AJ41<$I$13,"<LLOD",AJ41)) | J41: =IF(I41="","",IF(AJ41<$I$13,"<LLOD",AL41)) | K41: =IF(AND(E41="",F41=""),"",IF(OR(E41="",F41=""),"NA",IF(AND(E41="SATURATION",F41="SATURATION"),"NA",IF(OR(E41="SATURATION",F41="SATURATION"),"NA",AM41)))) | AH41: =IF('Plan plaque - Saisie lectures'!E37>SATURATION,"SATURATION",'Plan plaque - Saisie lectures'!E37) -> 0 | AI41: =IF('Plan plaque - Saisie lectures'!F37>SATURATION,"SATURATION",'Plan plaque - Saisie lectures'!F37) -> 0 | AJ41: =IF(G41="NA","NA",((-$E$30)+(SQRT($E$30^2-(4*$E$29*($E$31-G41)))))/(2*$E$29)) -> #VALUE! | AK41: =I41 -> 0 | AL41: =IF(H41="","",AK41*AJ41) | AM41: =STDEV(AH41:AI41)/AVERAGE(AH41:AI41)*100 -> #DIV/0!
D42: ='Plan plaque - Saisie lectures'!E19 -> ECH N°2 | E42: =IF(AH42=0,"",AH42) | F42: =IF(AI42=0,"",AI42) | G42: =IF(AND(ISTEXT(E42),ISTEXT(F42))," ",AVERAGE(E42:F42)) | H42: =IF(G42=" ","",IF(AJ42<$I$13,"<LLOD",AJ42)) | J42: =IF(I42="","",IF(AJ42<$I$13,"<LLOD",AL42)) | K42: =IF(AND(E42="",F42=""),"",IF(OR(E42="",F42=""),"NA",IF(AND(E42="SATURATION",F42="SATURATION"),"NA",IF(OR(E42="SATURATION",F42="SATURATION"),"NA",AM42)))) | AH42: =IF('Plan plaque - Saisie lectures'!E38>SATURATION,"SATURATION",'Plan plaque - Saisie lectures'!E38) -> 0 | AI42: =IF('Plan plaque - Saisie lectures'!F38>SATURATION,"SATURATION",'Plan plaque - Saisie lectures'!F38) -> 0 | AJ42: =IF(G42="NA","NA",((-$E$30)+(SQRT($E$30^2-(4*$E$29*($E$31-G42)))))/(2*$E$29)) -> #VALUE! | AK42: =I42 -> 0 | AL42: =IF(H42="","",AK42*AJ42) | AM42: =STDEV(AH42:AI42)/AVERAGE(AH42:AI42)*100 -> #DIV/0!
D43: ='Plan plaque - Saisie lectures'!E20 -> ECH N°3 | E43: =IF(AH43=0,"",AH43) | F43: =IF(AI43=0,"",AI43) | G43: =IF(AND(ISTEXT(E43),ISTEXT(F43))," ",AVERAGE(E43:F43)) | H43: =IF(G43=" ","",IF(AJ43<$I$13,"<LLOD",AJ43)) | J43: =IF(I43="","",IF(AJ43<$I$13,"<LLOD",AL43)) | K43: =IF(AND(E43="",F43=""),"",IF(OR(E43="",F43=""),"NA",IF(AND(E43="SATURATION",F43="SATURATION"),"NA",IF(OR(E43="SATURATION",F43="SATURATION"),"NA",AM43)))) | AH43: =IF('Plan plaque - Saisie lectures'!E39>SATURATION,"SATURATION",'Plan plaque - Saisie lectures'!E39) -> 0 | AI43: =IF('Plan plaque - Saisie lectures'!F39>SATURATION,"SATURATION",'Plan plaque - Saisie lectures'!F39) -> 0 | AJ43: =IF(G43="NA","NA",((-$E$30)+(SQRT($E$30^2-(4*$E$29*($E$31-G43)))))/(2*$E$29)) -> #VALUE! | AK43: =I43 -> 0 | AL43: =IF(H43="","",AK43*AJ43) | AM43: =STDEV(AH43:AI43)/AVERAGE(AH43:AI43)*100 -> #DIV/0!
D44: ='Plan plaque - Saisie lectures'!E21 -> ECH N°4 | E44: =IF(AH44=0,"",AH44) | F44: =IF(AI44=0,"",AI44) | G44: =IF(AND(ISTEXT(E44),ISTEXT(F44))," ",AVERAGE(E44:F44)) | H44: =IF(G44=" ","",IF(AJ44<$I$13,"<LLOD",AJ44)) | J44: =IF(I44="","",IF(AJ44<$I$13,"<LLOD",AL44)) | K44: =IF(AND(E44="",F44=""),"",IF(OR(E44="",F44=""),"NA",IF(AND(E44="SATURATION",F44="SATURATION"),"NA",IF(OR(E44="SATURATION",F44="SATURATION"),"NA",AM44)))) | AH44: =IF('Plan plaque - Saisie lectures'!E40>SATURATION,"SATURATION",'Plan plaque - Saisie lectures'!E40) -> 0 | AI44: =IF('Plan plaque - Saisie lectures'!F40>SATURATION,"SATURATION",'Plan plaque - Saisie lectures'!F40) -> 0 | AJ44: =IF(G44="NA","NA",((-$E$30)+(SQRT($E$30^2-(4*$E$29*($E$31-G44)))))/(2*$E$29)) -> #VALUE! | AK44: =I44 -> 0 | AL44: =IF(H44="","",AK44*AJ44) | AM44: =STDEV(AH44:AI44)/AVERAGE(AH44:AI44)*100 -> #DIV/0!
D45: ='Plan plaque - Saisie lectures'!E22 -> ECH N°5 | E45: =IF(AH45=0,"",AH45) | F45: =IF(AI45=0,"",AI45) | G45: =IF(AND(ISTEXT(E45),ISTEXT(F45))," ",AVERAGE(E45:F45)) | H45: =IF(G45=" ","",IF(AJ45<$I$13,"<LLOD",AJ45)) | J45: =IF(I45="","",IF(AJ45<$I$13,"<LLOD",AL45)) | K45: =IF(AND(E45="",F45=""),"",IF(OR(E45="",F45=""),"NA",IF(AND(E45="SATURATION",F45="SATURATION"),"NA",IF(OR(E45="SATURATION",F45="SATURATION"),"NA",AM45)))) | AH45: =IF('Plan plaque - Saisie lectures'!E41>SATURATION,"SATURATION",'Plan plaque - Saisie lectures'!E41) -> 0 | AI45: =IF('Plan plaque - Saisie lectures'!F41>SATURATION,"SATURATION",'Plan plaque - Saisie lectures'!F41) -> 0 | AJ45: =IF(G45="NA","NA",((-$E$30)+(SQRT($E$30^2-(4*$E$29*($E$31-G45)))))/(2*$E$29)) -> #VALUE! | AK45: =I45 -> 0 | AL45: =IF(H45="","",AK45*AJ45) | AM45: =STDEV(AH45:AI45)/AVERAGE(AH45:AI45)*100 -> #DIV/0!
D46: ='Plan plaque - Saisie lectures'!E23 -> ECH N°6 | E46: =IF(AH46=0,"",AH46) | F46: =IF(AI46=0,"",AI46) | G46: =IF(AND(ISTEXT(E46),ISTEXT(F46))," ",AVERAGE(E46:F46)) | H46: =IF(G46=" ","",IF(AJ46<$I$13,"<LLOD",AJ46)) | J46: =IF(I46="","",IF(AJ46<$I$13,"<LLOD",AL46)) | K46: =IF(AND(E46="",F46=""),"",IF(OR(E46="",F46=""),"NA",IF(AND(E46="SATURATION",F46="SATURATION"),"NA",IF(OR(E46="SATURATION",F46="SATURATION"),"NA",AM46)))) | AH46: =IF('Plan plaque - Saisie lectures'!E42>SATURATION,"SATURATION",'Plan plaque - Saisie lectures'!E42) -> 0 | AI46: =IF('Plan plaque - Saisie lectures'!F42>SATURATION,"SATURATION",'Plan plaque - Saisie lectures'!F42) -> 0 | AJ46: =IF(G46="NA","NA",((-$E$30)+(SQRT($E$30^2-(4*$E$29*($E$31-G46)))))/(2*$E$29)) -> #VALUE! | AK46: =I46 -> 0 | AL46: =IF(H46="","",AK46*AJ46) | AM46: =STDEV(AH46:AI46)/AVERAGE(AH46:AI46)*100 -> #DIV/0!
D47: ='Plan plaque - Saisie lectures'!E24 -> ECH N°7 | E47: =IF(AH47=0,"",AH47) | F47: =IF(AI47=0,"",AI47) | G47: =IF(AND(ISTEXT(E47),ISTEXT(F47))," ",AVERAGE(E47:F47)) | H47: =IF(G47=" ","",IF(AJ47<$I$13,"<LLOD",AJ47)) | J47: =IF(I47="","",IF(AJ47<$I$13,"<LLOD",AL47)) | K47: =IF(AND(E47="",F47=""),"",IF(OR(E47="",F47=""),"NA",IF(AND(E47="SATURATION",F47="SATURATION"),"NA",IF(OR(E47="SATURATION",F47="SATURATION"),"NA",AM47)))) | AH47: =IF('Plan plaque - Saisie lectures'!E43>SATURATION,"SATURATION",'Plan plaque - Saisie lectures'!E43) -> 0 | AI47: =IF('Plan plaque - Saisie lectures'!F43>SATURATION,"SATURATION",'Plan plaque - Saisie lectures'!F43) -> 0 | AJ47: =IF(G47="NA","NA",((-$E$30)+(SQRT($E$30^2-(4*$E$29*($E$31-G47)))))/(2*$E$29)) -> #VALUE! | AK47: =I47 -> 0 | AL47: =IF(H47="","",AK47*AJ47) | AM47: =STDEV(AH47:AI47)/AVERAGE(AH47:AI47)*100 -> #DIV/0!
D48: ='Plan plaque - Saisie lectures'!E25 -> ECH N°8 | E48: =IF(AH48=0,"",AH48) | F48: =IF(AI48=0,"",AI48) | G48: =IF(AND(ISTEXT(E48),ISTEXT(F48))," ",AVERAGE(E48:F48)) | H48: =IF(G48=" ","",IF(AJ48<$I$13,"<LLOD",AJ48)) | J48: =IF(I48="","",IF(AJ48<$I$13,"<LLOD",AL48)) | K48: =IF(AND(E48="",F48=""),"",IF(OR(E48="",F48=""),"NA",IF(AND(E48="SATURATION",F48="SATURATION"),"NA",IF(OR(E48="SATURATION",F48="SATURATION"),"NA",AM48)))) | AH48: =IF('Plan plaque - Saisie lectures'!E44>SATURATION,"SATURATION",'Plan plaque - Saisie lectures'!E44) -> 0 | AI48: =IF('Plan plaque - Saisie lectures'!F44>SATURATION,"SATURATION",'Plan plaque - Saisie lectures'!F44) -> 0 | AJ48: =IF(G48="NA","NA",((-$E$30)+(SQRT($E$30^2-(4*$E$29*($E$31-G48)))))/(2*$E$29)) -> #VALUE! | AK48: =I48 -> 0 | AL48: =IF(H48="","",AK48*AJ48) | AM48: =STDEV(AH48:AI48)/AVERAGE(AH48:AI48)*100 -> #DIV/0!
D49: ='Plan plaque - Saisie lectures'!G18 -> ECH N°9 | E49: =IF(AH49=0,"",AH49) | F49: =IF(AI49=0,"",AI49) | G49: =IF(AND(ISTEXT(E49),ISTEXT(F49))," ",AVERAGE(E49:F49)) | H49: =IF(G49=" ","",IF(AJ49<$I$13,"<LLOD",AJ49)) | J49: =IF(I49="","",IF(AJ49<$I$13,"<LLOD",AL49)) | K49: =IF(AND(E49="",F49=""),"",IF(OR(E49="",F49=""),"NA",IF(AND(E49="SATURATION",F49="SATURATION"),"NA",IF(OR(E49="SATURATION",F49="SATURATION"),"NA",AM49)))) | AH49: =IF('Plan plaque - Saisie lectures'!G37>SATURATION,"SATURATION",'Plan plaque - Saisie lectures'!G37) -> 0 | AI49: =IF('Plan plaque - Saisie lectures'!H37>SATURATION,"SATURATION",'Plan plaque - Saisie lectures'!H37) -> 0 | AJ49: =IF(G49="NA","NA",((-$E$30)+(SQRT($E$30^2-(4*$E$29*($E$31-G49)))))/(2*$E$29)) -> #VALUE! | AK49: =I49 -> 0 | AL49: =IF(H49="","",AK49*AJ49) | AM49: =STDEV(AH49:AI49)/AVERAGE(AH49:AI49)*100 -> #DIV/0!
D50: ='Plan plaque - Saisie lectures'!G19 -> ECH N°10 | E50: =IF(AH50=0,"",AH50) | F50: =IF(AI50=0,"",AI50) | G50: =IF(AND(ISTEXT(E50),ISTEXT(F50))," ",AVERAGE(E50:F50)) | H50: =IF(G50=" ","",IF(AJ50<$I$13,"<LLOD",AJ50)) | J50: =IF(I50="","",IF(AJ50<$I$13,"<LLOD",AL50)) | K50: =IF(AND(E50="",F50=""),"",IF(OR(E50="",F50=""),"NA",IF(AND(E50="SATURATION",F50="SATURATION"),"NA",IF(OR(E50="SATURATION",F50="SATURATION"),"NA",AM50)))) | AH50: =IF('Plan plaque - Saisie lectures'!G38>SATURATION,"SATURATION",'Plan plaque - Saisie lectures'!G38) -> 0 | AI50: =IF('Plan plaque - Saisie lectures'!H38>SATURATION,"SATURATION",'Plan plaque - Saisie lectures'!H38) -> 0 | AJ50: =IF(G50="NA","NA",((-$E$30)+(SQRT($E$30^2-(4*$E$29*($E$31-G50)))))/(2*$E$29)) -> #VALUE! | AK50: =I50 -> 0 | AL50: =IF(H50="","",AK50*AJ50) | AM50: =STDEV(AH50:AI50)/AVERAGE(AH50:AI50)*100 -> #DIV/0!
D51: ='Plan plaque - Saisie lectures'!G20 -> ECH N°11 | E51: =IF(AH51=0,"",AH51) | F51: =IF(AI51=0,"",AI51) | G51: =IF(AND(ISTEXT(E51),ISTEXT(F51))," ",AVERAGE(E51:F51)) | H51: =IF(G51=" ","",IF(AJ51<$I$13,"<LLOD",AJ51)) | J51: =IF(I51="","",IF(AJ51<$I$13,"<LLOD",AL51)) | K51: =IF(AND(E51="",F51=""),"",IF(OR(E51="",F51=""),"NA",IF(AND(E51="SATURATION",F51="SATURATION"),"NA",IF(OR(E51="SATURATION",F51="SATURATION"),"NA",AM51)))) | AH51: =IF('Plan plaque - Saisie lectures'!G39>SATURATION,"SATURATION",'Plan plaque - Saisie lectures'!G39) -> 0 | AI51: =IF('Plan plaque - Saisie lectures'!H39>SATURATION,"SATURATION",'Plan plaque - Saisie lectures'!H39) -> 0 | AJ51: =IF(G51="NA","NA",((-$E$30)+(SQRT($E$30^2-(4*$E$29*($E$31-G51)))))/(2*$E$29)) -> #VALUE! | AK51: =I51 -> 0 | AL51: =IF(H51="","",AK51*AJ51) | AM51: =STDEV(AH51:AI51)/AVERAGE(AH51:AI51)*100 -> #DIV/0!
D52: ='Plan plaque - Saisie lectures'!G21 -> ECH N°12 | E52: =IF(AH52=0,"",AH52) | F52: =IF(AI52=0,"",AI52) | G52: =IF(AND(ISTEXT(E52),ISTEXT(F52))," ",AVERAGE(E52:F52)) | H52: =IF(G52=" ","",IF(AJ52<$I$13,"<LLOD",AJ52)) | J52: =IF(I52="","",IF(AJ52<$I$13,"<LLOD",AL52)) | K52: =IF(AND(E52="",F52=""),"",IF(OR(E52="",F52=""),"NA",IF(AND(E52="SATURATION",F52="SATURATION"),"NA",IF(OR(E52="SATURATION",F52="SATURATION"),"NA",AM52)))) | AH52: =IF('Plan plaque - Saisie lectures'!G40>SATURATION,"SATURATION",'Plan plaque - Saisie lectures'!G40) -> 0 | AI52: =IF('Plan plaque - Saisie lectures'!H40>SATURATION,"SATURATION",'Plan plaque - Saisie lectures'!H40) -> 0 | AJ52: =IF(G52="NA","NA",((-$E$30)+(SQRT($E$30^2-(4*$E$29*($E$31-G52)))))/(2*$E$29)) -> #VALUE! | AK52: =I52 -> 0 | AL52: =IF(H52="","",AK52*AJ52) | AM52: =STDEV(AH52:AI52)/AVERAGE(AH52:AI52)*100 -> #DIV/0!
D53: ='Plan plaque - Saisie lectures'!G22 -> ECH N°13 | E53: =IF(AH53=0,"",AH53) | F53: =IF(AI53=0,"",AI53) | G53: =IF(AND(ISTEXT(E53),ISTEXT(F53))," ",AVERAGE(E53:F53)) | H53: =IF(G53=" ","",IF(AJ53<$I$13,"<LLOD",AJ53)) | J53: =IF(I53="","",IF(AJ53<$I$13,"<LLOD",AL53)) | K53: =IF(AND(E53="",F53=""),"",IF(OR(E53="",F53=""),"NA",IF(AND(E53="SATURATION",F53="SATURATION"),"NA",IF(OR(E53="SATURATION",F53="SATURATION"),"NA",AM53)))) | AH53: =IF('Plan plaque - Saisie lectures'!G41>SATURATION,"SATURATION",'Plan plaque - Saisie lectures'!G41) -> 0 | AI53: =IF('Plan plaque - Saisie lectures'!H41>SATURATION,"SATURATION",'Plan plaque - Saisie lectures'!H41) -> 0 | AJ53: =IF(G53="NA","NA",((-$E$30)+(SQRT($E$30^2-(4*$E$29*($E$31-G53)))))/(2*$E$29)) -> #VALUE! | AK53: =I53 -> 0 | AL53: =IF(H53="","",AK53*AJ53) | AM53: =STDEV(AH53:AI53)/AVERAGE(AH53:AI53)*100 -> #DIV/0!
...
